BEGIN:VCALENDAR
VERSION:2.0
PRODID:-//Хоризонти - ECPv6.2.8.2//NONSGML v1.0//EN
CALSCALE:GREGORIAN
METHOD:PUBLISH
X-WR-CALNAME:Хоризонти
X-ORIGINAL-URL:https://horizon-ti.com
X-WR-CALDESC:Events for Хоризонти
REFRESH-INTERVAL;VALUE=DURATION:PT1H
X-Robots-Tag:noindex
X-PUBLISHED-TTL:PT1H
BEGIN:VTIMEZONE
TZID:Europe/Vienna
BEGIN:DAYLIGHT
TZOFFSETFROM:+0100
TZOFFSETTO:+0200
TZNAME:CEST
DTSTART:20240331T010000
END:DAYLIGHT
BEGIN:STANDARD
TZOFFSETFROM:+0200
TZOFFSETTO:+0100
TZNAME:CET
DTSTART:20241027T010000
END:STANDARD
END:VTIMEZONE
BEGIN:VEVENT
DTSTART;TZID=Europe/Vienna:20240305T160000
DTEND;TZID=Europe/Vienna:20240305T170000
DTSTAMP:20260422T235158
CREATED:20240215T141616Z
LAST-MODIFIED:20240215T141616Z
UID:10000283-1709654400-1709658000@horizon-ti.com
SUMMARY:Арт-ателие за деца
DESCRIPTION:Ако детето ви обича да твори\, заповядайте при нас\, където ще създаваме красиви неща\, ще се развиваме и забавляваме заедно! \nНеобходимо е предварително записване!
URL:https://horizon-ti.com/event/%d0%b0%d1%80%d1%82-%d0%b0%d1%82%d0%b5%d0%bb%d0%b8%d0%b5-%d0%b7%d0%b0-%d0%b4%d0%b5%d1%86%d0%b0/
LOCATION:Виена\, Haslingergasse 16\, 1170\, Австрия
CATEGORIES:Детски,Изкуство
ATTACH;FMTTYPE=image/jpeg:https://horizon-ti.com/wp-content/uploads/2023/11/colorful-paper-chains-still-life-scaled-e1699819773414.jpg
END:VEVENT
END:VCALENDAR