BEGIN:VCALENDAR
VERSION:2.0
PRODID:-//Хоризонти - ECPv6.2.8.2//NONSGML v1.0//EN
CALSCALE:GREGORIAN
METHOD:PUBLISH
X-WR-CALNAME:Хоризонти
X-ORIGINAL-URL:https://horizon-ti.com
X-WR-CALDESC:Events for Хоризонти
REFRESH-INTERVAL;VALUE=DURATION:PT1H
X-Robots-Tag:noindex
X-PUBLISHED-TTL:PT1H
BEGIN:VTIMEZONE
TZID:Europe/Vienna
BEGIN:DAYLIGHT
TZOFFSETFROM:+0100
TZOFFSETTO:+0200
TZNAME:CEST
DTSTART:20250330T010000
END:DAYLIGHT
BEGIN:STANDARD
TZOFFSETFROM:+0200
TZOFFSETTO:+0100
TZNAME:CET
DTSTART:20251026T010000
END:STANDARD
END:VTIMEZONE
BEGIN:VEVENT
DTSTART;TZID=Europe/Vienna:20250921T100000
DTEND;TZID=Europe/Vienna:20250921T120000
DTSTAMP:20260422T024702
CREATED:20250115T101521Z
LAST-MODIFIED:20250115T101522Z
UID:10000342-1758448800-1758456000@horizon-ti.com
SUMMARY:Немски Език
DESCRIPTION:Това е курс\, специално адаптиран за българи. Всяка неделя от 10:00 часа.  Не е необходимо предварително записване!
URL:https://horizon-ti.com/event/%d0%bd%d0%b5%d0%bc%d1%81%d0%ba%d0%b8-%d0%b5%d0%b7%d0%b8%d0%ba-4-2/2025-09-21/
LOCATION:Виена\, Haslingergasse 16\, 1170\, Австрия
CATEGORIES:Езици
ATTACH;FMTTYPE=image/jpeg:https://horizon-ti.com/wp-content/uploads/2023/11/claudio-schwarz-TScGhJM716g-unsplash-scaled-e1699637998667.jpg
END:VEVENT
BEGIN:VEVENT
DTSTART;TZID=Europe/Vienna:20250914T100000
DTEND;TZID=Europe/Vienna:20250914T120000
DTSTAMP:20260422T024702
CREATED:20250115T101521Z
LAST-MODIFIED:20250115T101522Z
UID:10000341-1757844000-1757851200@horizon-ti.com
SUMMARY:Немски Език
DESCRIPTION:Това е курс\, специално адаптиран за българи. Всяка неделя от 10:00 часа.  Не е необходимо предварително записване!
URL:https://horizon-ti.com/event/%d0%bd%d0%b5%d0%bc%d1%81%d0%ba%d0%b8-%d0%b5%d0%b7%d0%b8%d0%ba-4-2/2025-09-14/
LOCATION:Виена\, Haslingergasse 16\, 1170\, Австрия
CATEGORIES:Езици
ATTACH;FMTTYPE=image/jpeg:https://horizon-ti.com/wp-content/uploads/2023/11/claudio-schwarz-TScGhJM716g-unsplash-scaled-e1699637998667.jpg
END:VEVENT
BEGIN:VEVENT
DTSTART;TZID=Europe/Vienna:20250907T100000
DTEND;TZID=Europe/Vienna:20250907T120000
DTSTAMP:20260422T024702
CREATED:20250115T101521Z
LAST-MODIFIED:20250115T101522Z
UID:10000340-1757239200-1757246400@horizon-ti.com
SUMMARY:Немски Език
DESCRIPTION:Това е курс\, специално адаптиран за българи. Всяка неделя от 10:00 часа.  Не е необходимо предварително записване!
URL:https://horizon-ti.com/event/%d0%bd%d0%b5%d0%bc%d1%81%d0%ba%d0%b8-%d0%b5%d0%b7%d0%b8%d0%ba-4-2/2025-09-07/
LOCATION:Виена\, Haslingergasse 16\, 1170\, Австрия
CATEGORIES:Езици
ATTACH;FMTTYPE=image/jpeg:https://horizon-ti.com/wp-content/uploads/2023/11/claudio-schwarz-TScGhJM716g-unsplash-scaled-e1699637998667.jpg
END:VEVENT
BEGIN:VEVENT
DTSTART;TZID=Europe/Vienna:20250831T100000
DTEND;TZID=Europe/Vienna:20250831T120000
DTSTAMP:20260422T024702
CREATED:20250115T101521Z
LAST-MODIFIED:20250115T101522Z
UID:10000339-1756634400-1756641600@horizon-ti.com
SUMMARY:Немски Език
DESCRIPTION:Това е курс\, специално адаптиран за българи. Всяка неделя от 10:00 часа.  Не е необходимо предварително записване!
URL:https://horizon-ti.com/event/%d0%bd%d0%b5%d0%bc%d1%81%d0%ba%d0%b8-%d0%b5%d0%b7%d0%b8%d0%ba-4-2/2025-08-31/
LOCATION:Виена\, Haslingergasse 16\, 1170\, Австрия
CATEGORIES:Езици
ATTACH;FMTTYPE=image/jpeg:https://horizon-ti.com/wp-content/uploads/2023/11/claudio-schwarz-TScGhJM716g-unsplash-scaled-e1699637998667.jpg
END:VEVENT
BEGIN:VEVENT
DTSTART;TZID=Europe/Vienna:20250824T100000
DTEND;TZID=Europe/Vienna:20250824T120000
DTSTAMP:20260422T024702
CREATED:20250115T101521Z
LAST-MODIFIED:20250115T101522Z
UID:10000338-1756029600-1756036800@horizon-ti.com
SUMMARY:Немски Език
DESCRIPTION:Това е курс\, специално адаптиран за българи. Всяка неделя от 10:00 часа.  Не е необходимо предварително записване!
URL:https://horizon-ti.com/event/%d0%bd%d0%b5%d0%bc%d1%81%d0%ba%d0%b8-%d0%b5%d0%b7%d0%b8%d0%ba-4-2/2025-08-24/
LOCATION:Виена\, Haslingergasse 16\, 1170\, Австрия
CATEGORIES:Езици
ATTACH;FMTTYPE=image/jpeg:https://horizon-ti.com/wp-content/uploads/2023/11/claudio-schwarz-TScGhJM716g-unsplash-scaled-e1699637998667.jpg
END:VEVENT
BEGIN:VEVENT
DTSTART;TZID=Europe/Vienna:20250817T100000
DTEND;TZID=Europe/Vienna:20250817T120000
DTSTAMP:20260422T024702
CREATED:20250115T101521Z
LAST-MODIFIED:20250115T101522Z
UID:10000337-1755424800-1755432000@horizon-ti.com
SUMMARY:Немски Език
DESCRIPTION:Това е курс\, специално адаптиран за българи. Всяка неделя от 10:00 часа.  Не е необходимо предварително записване!
URL:https://horizon-ti.com/event/%d0%bd%d0%b5%d0%bc%d1%81%d0%ba%d0%b8-%d0%b5%d0%b7%d0%b8%d0%ba-4-2/2025-08-17/
LOCATION:Виена\, Haslingergasse 16\, 1170\, Австрия
CATEGORIES:Езици
ATTACH;FMTTYPE=image/jpeg:https://horizon-ti.com/wp-content/uploads/2023/11/claudio-schwarz-TScGhJM716g-unsplash-scaled-e1699637998667.jpg
END:VEVENT
BEGIN:VEVENT
DTSTART;TZID=Europe/Vienna:20250810T100000
DTEND;TZID=Europe/Vienna:20250810T120000
DTSTAMP:20260422T024702
CREATED:20250115T101521Z
LAST-MODIFIED:20250115T101522Z
UID:10000336-1754820000-1754827200@horizon-ti.com
SUMMARY:Немски Език
DESCRIPTION:Това е курс\, специално адаптиран за българи. Всяка неделя от 10:00 часа.  Не е необходимо предварително записване!
URL:https://horizon-ti.com/event/%d0%bd%d0%b5%d0%bc%d1%81%d0%ba%d0%b8-%d0%b5%d0%b7%d0%b8%d0%ba-4-2/2025-08-10/
LOCATION:Виена\, Haslingergasse 16\, 1170\, Австрия
CATEGORIES:Езици
ATTACH;FMTTYPE=image/jpeg:https://horizon-ti.com/wp-content/uploads/2023/11/claudio-schwarz-TScGhJM716g-unsplash-scaled-e1699637998667.jpg
END:VEVENT
BEGIN:VEVENT
DTSTART;TZID=Europe/Vienna:20250803T100000
DTEND;TZID=Europe/Vienna:20250803T120000
DTSTAMP:20260422T024702
CREATED:20250115T101521Z
LAST-MODIFIED:20250115T101522Z
UID:10000335-1754215200-1754222400@horizon-ti.com
SUMMARY:Немски Език
DESCRIPTION:Това е курс\, специално адаптиран за българи. Всяка неделя от 10:00 часа.  Не е необходимо предварително записване!
URL:https://horizon-ti.com/event/%d0%bd%d0%b5%d0%bc%d1%81%d0%ba%d0%b8-%d0%b5%d0%b7%d0%b8%d0%ba-4-2/2025-08-03/
LOCATION:Виена\, Haslingergasse 16\, 1170\, Австрия
CATEGORIES:Езици
ATTACH;FMTTYPE=image/jpeg:https://horizon-ti.com/wp-content/uploads/2023/11/claudio-schwarz-TScGhJM716g-unsplash-scaled-e1699637998667.jpg
END:VEVENT
BEGIN:VEVENT
DTSTART;TZID=Europe/Vienna:20250727T100000
DTEND;TZID=Europe/Vienna:20250727T120000
DTSTAMP:20260422T024702
CREATED:20250115T101521Z
LAST-MODIFIED:20250115T101522Z
UID:10000334-1753610400-1753617600@horizon-ti.com
SUMMARY:Немски Език
DESCRIPTION:Това е курс\, специално адаптиран за българи. Всяка неделя от 10:00 часа.  Не е необходимо предварително записване!
URL:https://horizon-ti.com/event/%d0%bd%d0%b5%d0%bc%d1%81%d0%ba%d0%b8-%d0%b5%d0%b7%d0%b8%d0%ba-4-2/2025-07-27/
LOCATION:Виена\, Haslingergasse 16\, 1170\, Австрия
CATEGORIES:Езици
ATTACH;FMTTYPE=image/jpeg:https://horizon-ti.com/wp-content/uploads/2023/11/claudio-schwarz-TScGhJM716g-unsplash-scaled-e1699637998667.jpg
END:VEVENT
BEGIN:VEVENT
DTSTART;TZID=Europe/Vienna:20250720T100000
DTEND;TZID=Europe/Vienna:20250720T120000
DTSTAMP:20260422T024702
CREATED:20250115T101521Z
LAST-MODIFIED:20250115T101522Z
UID:10000333-1753005600-1753012800@horizon-ti.com
SUMMARY:Немски Език
DESCRIPTION:Това е курс\, специално адаптиран за българи. Всяка неделя от 10:00 часа.  Не е необходимо предварително записване!
URL:https://horizon-ti.com/event/%d0%bd%d0%b5%d0%bc%d1%81%d0%ba%d0%b8-%d0%b5%d0%b7%d0%b8%d0%ba-4-2/2025-07-20/
LOCATION:Виена\, Haslingergasse 16\, 1170\, Австрия
CATEGORIES:Езици
ATTACH;FMTTYPE=image/jpeg:https://horizon-ti.com/wp-content/uploads/2023/11/claudio-schwarz-TScGhJM716g-unsplash-scaled-e1699637998667.jpg
END:VEVENT
BEGIN:VEVENT
DTSTART;TZID=Europe/Vienna:20250713T100000
DTEND;TZID=Europe/Vienna:20250713T120000
DTSTAMP:20260422T024702
CREATED:20250115T101521Z
LAST-MODIFIED:20250115T101522Z
UID:10000332-1752400800-1752408000@horizon-ti.com
SUMMARY:Немски Език
DESCRIPTION:Това е курс\, специално адаптиран за българи. Всяка неделя от 10:00 часа.  Не е необходимо предварително записване!
URL:https://horizon-ti.com/event/%d0%bd%d0%b5%d0%bc%d1%81%d0%ba%d0%b8-%d0%b5%d0%b7%d0%b8%d0%ba-4-2/2025-07-13/
LOCATION:Виена\, Haslingergasse 16\, 1170\, Австрия
CATEGORIES:Езици
ATTACH;FMTTYPE=image/jpeg:https://horizon-ti.com/wp-content/uploads/2023/11/claudio-schwarz-TScGhJM716g-unsplash-scaled-e1699637998667.jpg
END:VEVENT
BEGIN:VEVENT
DTSTART;TZID=Europe/Vienna:20250706T100000
DTEND;TZID=Europe/Vienna:20250706T120000
DTSTAMP:20260422T024702
CREATED:20250115T101521Z
LAST-MODIFIED:20250115T101522Z
UID:10000331-1751796000-1751803200@horizon-ti.com
SUMMARY:Немски Език
DESCRIPTION:Това е курс\, специално адаптиран за българи. Всяка неделя от 10:00 часа.  Не е необходимо предварително записване!
URL:https://horizon-ti.com/event/%d0%bd%d0%b5%d0%bc%d1%81%d0%ba%d0%b8-%d0%b5%d0%b7%d0%b8%d0%ba-4-2/2025-07-06/
LOCATION:Виена\, Haslingergasse 16\, 1170\, Австрия
CATEGORIES:Езици
ATTACH;FMTTYPE=image/jpeg:https://horizon-ti.com/wp-content/uploads/2023/11/claudio-schwarz-TScGhJM716g-unsplash-scaled-e1699637998667.jpg
END:VEVENT
BEGIN:VEVENT
DTSTART;TZID=Europe/Vienna:20250629T100000
DTEND;TZID=Europe/Vienna:20250629T120000
DTSTAMP:20260422T024702
CREATED:20250115T101521Z
LAST-MODIFIED:20250115T101522Z
UID:10000330-1751191200-1751198400@horizon-ti.com
SUMMARY:Немски Език
DESCRIPTION:Това е курс\, специално адаптиран за българи. Всяка неделя от 10:00 часа.  Не е необходимо предварително записване!
URL:https://horizon-ti.com/event/%d0%bd%d0%b5%d0%bc%d1%81%d0%ba%d0%b8-%d0%b5%d0%b7%d0%b8%d0%ba-4-2/2025-06-29/
LOCATION:Виена\, Haslingergasse 16\, 1170\, Австрия
CATEGORIES:Езици
ATTACH;FMTTYPE=image/jpeg:https://horizon-ti.com/wp-content/uploads/2023/11/claudio-schwarz-TScGhJM716g-unsplash-scaled-e1699637998667.jpg
END:VEVENT
BEGIN:VEVENT
DTSTART;TZID=Europe/Vienna:20250622T100000
DTEND;TZID=Europe/Vienna:20250622T120000
DTSTAMP:20260422T024702
CREATED:20250115T101521Z
LAST-MODIFIED:20250115T101522Z
UID:10000329-1750586400-1750593600@horizon-ti.com
SUMMARY:Немски Език
DESCRIPTION:Това е курс\, специално адаптиран за българи. Всяка неделя от 10:00 часа.  Не е необходимо предварително записване!
URL:https://horizon-ti.com/event/%d0%bd%d0%b5%d0%bc%d1%81%d0%ba%d0%b8-%d0%b5%d0%b7%d0%b8%d0%ba-4-2/2025-06-22/
LOCATION:Виена\, Haslingergasse 16\, 1170\, Австрия
CATEGORIES:Езици
ATTACH;FMTTYPE=image/jpeg:https://horizon-ti.com/wp-content/uploads/2023/11/claudio-schwarz-TScGhJM716g-unsplash-scaled-e1699637998667.jpg
END:VEVENT
BEGIN:VEVENT
DTSTART;TZID=Europe/Vienna:20250615T100000
DTEND;TZID=Europe/Vienna:20250615T120000
DTSTAMP:20260422T024702
CREATED:20250115T101521Z
LAST-MODIFIED:20250115T101522Z
UID:10000328-1749981600-1749988800@horizon-ti.com
SUMMARY:Немски Език
DESCRIPTION:Това е курс\, специално адаптиран за българи. Всяка неделя от 10:00 часа.  Не е необходимо предварително записване!
URL:https://horizon-ti.com/event/%d0%bd%d0%b5%d0%bc%d1%81%d0%ba%d0%b8-%d0%b5%d0%b7%d0%b8%d0%ba-4-2/2025-06-15/
LOCATION:Виена\, Haslingergasse 16\, 1170\, Австрия
CATEGORIES:Езици
ATTACH;FMTTYPE=image/jpeg:https://horizon-ti.com/wp-content/uploads/2023/11/claudio-schwarz-TScGhJM716g-unsplash-scaled-e1699637998667.jpg
END:VEVENT
BEGIN:VEVENT
DTSTART;TZID=Europe/Vienna:20250608T100000
DTEND;TZID=Europe/Vienna:20250608T120000
DTSTAMP:20260422T024702
CREATED:20250115T101521Z
LAST-MODIFIED:20250115T101522Z
UID:10000327-1749376800-1749384000@horizon-ti.com
SUMMARY:Немски Език
DESCRIPTION:Това е курс\, специално адаптиран за българи. Всяка неделя от 10:00 часа.  Не е необходимо предварително записване!
URL:https://horizon-ti.com/event/%d0%bd%d0%b5%d0%bc%d1%81%d0%ba%d0%b8-%d0%b5%d0%b7%d0%b8%d0%ba-4-2/2025-06-08/
LOCATION:Виена\, Haslingergasse 16\, 1170\, Австрия
CATEGORIES:Езици
ATTACH;FMTTYPE=image/jpeg:https://horizon-ti.com/wp-content/uploads/2023/11/claudio-schwarz-TScGhJM716g-unsplash-scaled-e1699637998667.jpg
END:VEVENT
BEGIN:VEVENT
DTSTART;TZID=Europe/Vienna:20250601T100000
DTEND;TZID=Europe/Vienna:20250601T120000
DTSTAMP:20260422T024702
CREATED:20250115T101521Z
LAST-MODIFIED:20250115T101522Z
UID:10000326-1748772000-1748779200@horizon-ti.com
SUMMARY:Немски Език
DESCRIPTION:Това е курс\, специално адаптиран за българи. Всяка неделя от 10:00 часа.  Не е необходимо предварително записване!
URL:https://horizon-ti.com/event/%d0%bd%d0%b5%d0%bc%d1%81%d0%ba%d0%b8-%d0%b5%d0%b7%d0%b8%d0%ba-4-2/2025-06-01/
LOCATION:Виена\, Haslingergasse 16\, 1170\, Австрия
CATEGORIES:Езици
ATTACH;FMTTYPE=image/jpeg:https://horizon-ti.com/wp-content/uploads/2023/11/claudio-schwarz-TScGhJM716g-unsplash-scaled-e1699637998667.jpg
END:VEVENT
BEGIN:VEVENT
DTSTART;TZID=Europe/Vienna:20250525T100000
DTEND;TZID=Europe/Vienna:20250525T120000
DTSTAMP:20260422T024702
CREATED:20250115T101521Z
LAST-MODIFIED:20250115T101522Z
UID:10000325-1748167200-1748174400@horizon-ti.com
SUMMARY:Немски Език
DESCRIPTION:Това е курс\, специално адаптиран за българи. Всяка неделя от 10:00 часа.  Не е необходимо предварително записване!
URL:https://horizon-ti.com/event/%d0%bd%d0%b5%d0%bc%d1%81%d0%ba%d0%b8-%d0%b5%d0%b7%d0%b8%d0%ba-4-2/2025-05-25/
LOCATION:Виена\, Haslingergasse 16\, 1170\, Австрия
CATEGORIES:Езици
ATTACH;FMTTYPE=image/jpeg:https://horizon-ti.com/wp-content/uploads/2023/11/claudio-schwarz-TScGhJM716g-unsplash-scaled-e1699637998667.jpg
END:VEVENT
BEGIN:VEVENT
DTSTART;TZID=Europe/Vienna:20250518T100000
DTEND;TZID=Europe/Vienna:20250518T120000
DTSTAMP:20260422T024702
CREATED:20250115T101521Z
LAST-MODIFIED:20250115T101522Z
UID:10000324-1747562400-1747569600@horizon-ti.com
SUMMARY:Немски Език
DESCRIPTION:Това е курс\, специално адаптиран за българи. Всяка неделя от 10:00 часа.  Не е необходимо предварително записване!
URL:https://horizon-ti.com/event/%d0%bd%d0%b5%d0%bc%d1%81%d0%ba%d0%b8-%d0%b5%d0%b7%d0%b8%d0%ba-4-2/2025-05-18/
LOCATION:Виена\, Haslingergasse 16\, 1170\, Австрия
CATEGORIES:Езици
ATTACH;FMTTYPE=image/jpeg:https://horizon-ti.com/wp-content/uploads/2023/11/claudio-schwarz-TScGhJM716g-unsplash-scaled-e1699637998667.jpg
END:VEVENT
BEGIN:VEVENT
DTSTART;TZID=Europe/Vienna:20250511T100000
DTEND;TZID=Europe/Vienna:20250511T120000
DTSTAMP:20260422T024702
CREATED:20250115T101521Z
LAST-MODIFIED:20250115T101522Z
UID:10000323-1746957600-1746964800@horizon-ti.com
SUMMARY:Немски Език
DESCRIPTION:Това е курс\, специално адаптиран за българи. Всяка неделя от 10:00 часа.  Не е необходимо предварително записване!
URL:https://horizon-ti.com/event/%d0%bd%d0%b5%d0%bc%d1%81%d0%ba%d0%b8-%d0%b5%d0%b7%d0%b8%d0%ba-4-2/2025-05-11/
LOCATION:Виена\, Haslingergasse 16\, 1170\, Австрия
CATEGORIES:Езици
ATTACH;FMTTYPE=image/jpeg:https://horizon-ti.com/wp-content/uploads/2023/11/claudio-schwarz-TScGhJM716g-unsplash-scaled-e1699637998667.jpg
END:VEVENT
BEGIN:VEVENT
DTSTART;TZID=Europe/Vienna:20250504T100000
DTEND;TZID=Europe/Vienna:20250504T120000
DTSTAMP:20260422T024702
CREATED:20250115T101521Z
LAST-MODIFIED:20250115T101522Z
UID:10000322-1746352800-1746360000@horizon-ti.com
SUMMARY:Немски Език
DESCRIPTION:Това е курс\, специално адаптиран за българи. Всяка неделя от 10:00 часа.  Не е необходимо предварително записване!
URL:https://horizon-ti.com/event/%d0%bd%d0%b5%d0%bc%d1%81%d0%ba%d0%b8-%d0%b5%d0%b7%d0%b8%d0%ba-4-2/2025-05-04/
LOCATION:Виена\, Haslingergasse 16\, 1170\, Австрия
CATEGORIES:Езици
ATTACH;FMTTYPE=image/jpeg:https://horizon-ti.com/wp-content/uploads/2023/11/claudio-schwarz-TScGhJM716g-unsplash-scaled-e1699637998667.jpg
END:VEVENT
BEGIN:VEVENT
DTSTART;TZID=Europe/Vienna:20250427T100000
DTEND;TZID=Europe/Vienna:20250427T120000
DTSTAMP:20260422T024702
CREATED:20250115T101521Z
LAST-MODIFIED:20250115T101522Z
UID:10000321-1745748000-1745755200@horizon-ti.com
SUMMARY:Немски Език
DESCRIPTION:Това е курс\, специално адаптиран за българи. Всяка неделя от 10:00 часа.  Не е необходимо предварително записване!
URL:https://horizon-ti.com/event/%d0%bd%d0%b5%d0%bc%d1%81%d0%ba%d0%b8-%d0%b5%d0%b7%d0%b8%d0%ba-4-2/2025-04-27/
LOCATION:Виена\, Haslingergasse 16\, 1170\, Австрия
CATEGORIES:Езици
ATTACH;FMTTYPE=image/jpeg:https://horizon-ti.com/wp-content/uploads/2023/11/claudio-schwarz-TScGhJM716g-unsplash-scaled-e1699637998667.jpg
END:VEVENT
BEGIN:VEVENT
DTSTART;TZID=Europe/Vienna:20250420T100000
DTEND;TZID=Europe/Vienna:20250420T120000
DTSTAMP:20260422T024702
CREATED:20250115T101521Z
LAST-MODIFIED:20250115T101522Z
UID:10000320-1745143200-1745150400@horizon-ti.com
SUMMARY:Немски Език
DESCRIPTION:Това е курс\, специално адаптиран за българи. Всяка неделя от 10:00 часа.  Не е необходимо предварително записване!
URL:https://horizon-ti.com/event/%d0%bd%d0%b5%d0%bc%d1%81%d0%ba%d0%b8-%d0%b5%d0%b7%d0%b8%d0%ba-4-2/2025-04-20/
LOCATION:Виена\, Haslingergasse 16\, 1170\, Австрия
CATEGORIES:Езици
ATTACH;FMTTYPE=image/jpeg:https://horizon-ti.com/wp-content/uploads/2023/11/claudio-schwarz-TScGhJM716g-unsplash-scaled-e1699637998667.jpg
END:VEVENT
BEGIN:VEVENT
DTSTART;TZID=Europe/Vienna:20250413T100000
DTEND;TZID=Europe/Vienna:20250413T120000
DTSTAMP:20260422T024702
CREATED:20250115T101521Z
LAST-MODIFIED:20250115T101522Z
UID:10000319-1744538400-1744545600@horizon-ti.com
SUMMARY:Немски Език
DESCRIPTION:Това е курс\, специално адаптиран за българи. Всяка неделя от 10:00 часа.  Не е необходимо предварително записване!
URL:https://horizon-ti.com/event/%d0%bd%d0%b5%d0%bc%d1%81%d0%ba%d0%b8-%d0%b5%d0%b7%d0%b8%d0%ba-4-2/2025-04-13/
LOCATION:Виена\, Haslingergasse 16\, 1170\, Австрия
CATEGORIES:Езици
ATTACH;FMTTYPE=image/jpeg:https://horizon-ti.com/wp-content/uploads/2023/11/claudio-schwarz-TScGhJM716g-unsplash-scaled-e1699637998667.jpg
END:VEVENT
BEGIN:VEVENT
DTSTART;TZID=Europe/Vienna:20250406T100000
DTEND;TZID=Europe/Vienna:20250406T120000
DTSTAMP:20260422T024702
CREATED:20250115T101521Z
LAST-MODIFIED:20250115T101522Z
UID:10000318-1743933600-1743940800@horizon-ti.com
SUMMARY:Немски Език
DESCRIPTION:Това е курс\, специално адаптиран за българи. Всяка неделя от 10:00 часа.  Не е необходимо предварително записване!
URL:https://horizon-ti.com/event/%d0%bd%d0%b5%d0%bc%d1%81%d0%ba%d0%b8-%d0%b5%d0%b7%d0%b8%d0%ba-4-2/2025-04-06/
LOCATION:Виена\, Haslingergasse 16\, 1170\, Австрия
CATEGORIES:Езици
ATTACH;FMTTYPE=image/jpeg:https://horizon-ti.com/wp-content/uploads/2023/11/claudio-schwarz-TScGhJM716g-unsplash-scaled-e1699637998667.jpg
END:VEVENT
BEGIN:VEVENT
DTSTART;TZID=Europe/Vienna:20250330T140000
DTEND;TZID=Europe/Vienna:20250330T160000
DTSTAMP:20260422T024702
CREATED:20250310T091731Z
LAST-MODIFIED:20250310T091731Z
UID:10000570-1743343200-1743350400@horizon-ti.com
SUMMARY:Курс по рисуване с художника Жоро Петров
DESCRIPTION:Такса: 5 Eвро \nДа събудим твореца в себе си! \nСкъпи приятели\, заповядайте в нашето арт-ателие – уютно пространство\, където цветовете оживяват\, а въображението няма граници! С помощта на художника Жоро Петров ще откриете своя уникален творчески почерк и ще се насладите на магията на изкуството. Независимо дали сте начинаещ или опитен творец\, тук ще намерите вдъхновение\, подкрепа и свободата да изразите себе си. \nТакса: 5 Eвро \nСвържете се с нас и запазете своето място!
URL:https://horizon-ti.com/event/%d0%ba%d1%83%d1%80%d1%81-%d0%bf%d0%be-%d1%80%d0%b8%d1%81%d1%83%d0%b2%d0%b0%d0%bd%d0%b5-%d1%81-%d1%85%d1%83%d0%b4%d0%be%d0%b6%d0%bd%d0%b8%d0%ba%d0%b0-%d0%b6%d0%be%d1%80%d0%be-%d0%bf%d0%b5%d1%82%d1%80-2/
LOCATION:Виена\, Haslingergasse 16\, 1170\, Австрия
CATEGORIES:Изкуство
ATTACH;FMTTYPE=image/jpeg:https://horizon-ti.com/wp-content/uploads/2024/10/art-featured.jpg
END:VEVENT
BEGIN:VEVENT
DTSTART;TZID=Europe/Vienna:20250330T100000
DTEND;TZID=Europe/Vienna:20250330T120000
DTSTAMP:20260422T024702
CREATED:20250115T101521Z
LAST-MODIFIED:20250115T101522Z
UID:10000317-1743328800-1743336000@horizon-ti.com
SUMMARY:Немски Език
DESCRIPTION:Това е курс\, специално адаптиран за българи. Всяка неделя от 10:00 часа.  Не е необходимо предварително записване!
URL:https://horizon-ti.com/event/%d0%bd%d0%b5%d0%bc%d1%81%d0%ba%d0%b8-%d0%b5%d0%b7%d0%b8%d0%ba-4-2/2025-03-30/
LOCATION:Виена\, Haslingergasse 16\, 1170\, Австрия
CATEGORIES:Езици
ATTACH;FMTTYPE=image/jpeg:https://horizon-ti.com/wp-content/uploads/2023/11/claudio-schwarz-TScGhJM716g-unsplash-scaled-e1699637998667.jpg
END:VEVENT
BEGIN:VEVENT
DTSTART;TZID=Europe/Vienna:20250323T100000
DTEND;TZID=Europe/Vienna:20250323T120000
DTSTAMP:20260422T024703
CREATED:20250115T101521Z
LAST-MODIFIED:20250115T101522Z
UID:10000316-1742724000-1742731200@horizon-ti.com
SUMMARY:Немски Език
DESCRIPTION:Това е курс\, специално адаптиран за българи. Всяка неделя от 10:00 часа.  Не е необходимо предварително записване!
URL:https://horizon-ti.com/event/%d0%bd%d0%b5%d0%bc%d1%81%d0%ba%d0%b8-%d0%b5%d0%b7%d0%b8%d0%ba-4-2/2025-03-23/
LOCATION:Виена\, Haslingergasse 16\, 1170\, Австрия
CATEGORIES:Езици
ATTACH;FMTTYPE=image/jpeg:https://horizon-ti.com/wp-content/uploads/2023/11/claudio-schwarz-TScGhJM716g-unsplash-scaled-e1699637998667.jpg
END:VEVENT
BEGIN:VEVENT
DTSTART;TZID=Europe/Vienna:20250316T100000
DTEND;TZID=Europe/Vienna:20250316T120000
DTSTAMP:20260422T024703
CREATED:20250115T101521Z
LAST-MODIFIED:20250115T101522Z
UID:10000315-1742119200-1742126400@horizon-ti.com
SUMMARY:Немски Език
DESCRIPTION:Това е курс\, специално адаптиран за българи. Всяка неделя от 10:00 часа.  Не е необходимо предварително записване!
URL:https://horizon-ti.com/event/%d0%bd%d0%b5%d0%bc%d1%81%d0%ba%d0%b8-%d0%b5%d0%b7%d0%b8%d0%ba-4-2/2025-03-16/
LOCATION:Виена\, Haslingergasse 16\, 1170\, Австрия
CATEGORIES:Езици
ATTACH;FMTTYPE=image/jpeg:https://horizon-ti.com/wp-content/uploads/2023/11/claudio-schwarz-TScGhJM716g-unsplash-scaled-e1699637998667.jpg
END:VEVENT
BEGIN:VEVENT
DTSTART;TZID=Europe/Vienna:20250309T100000
DTEND;TZID=Europe/Vienna:20250309T120000
DTSTAMP:20260422T024703
CREATED:20250115T101521Z
LAST-MODIFIED:20250115T101522Z
UID:10000314-1741514400-1741521600@horizon-ti.com
SUMMARY:Немски Език
DESCRIPTION:Това е курс\, специално адаптиран за българи. Всяка неделя от 10:00 часа.  Не е необходимо предварително записване!
URL:https://horizon-ti.com/event/%d0%bd%d0%b5%d0%bc%d1%81%d0%ba%d0%b8-%d0%b5%d0%b7%d0%b8%d0%ba-4-2/2025-03-09/
LOCATION:Виена\, Haslingergasse 16\, 1170\, Австрия
CATEGORIES:Езици
ATTACH;FMTTYPE=image/jpeg:https://horizon-ti.com/wp-content/uploads/2023/11/claudio-schwarz-TScGhJM716g-unsplash-scaled-e1699637998667.jpg
END:VEVENT
END:VCALENDAR