BEGIN:VCALENDAR
VERSION:2.0
PRODID:-//Хоризонти - ECPv6.2.8.2//NONSGML v1.0//EN
CALSCALE:GREGORIAN
METHOD:PUBLISH
X-WR-CALNAME:Хоризонти
X-ORIGINAL-URL:https://horizon-ti.com
X-WR-CALDESC:Events for Хоризонти
REFRESH-INTERVAL;VALUE=DURATION:PT1H
X-Robots-Tag:noindex
X-PUBLISHED-TTL:PT1H
BEGIN:VTIMEZONE
TZID:Europe/Vienna
BEGIN:DAYLIGHT
TZOFFSETFROM:+0100
TZOFFSETTO:+0200
TZNAME:CEST
DTSTART:20240331T010000
END:DAYLIGHT
BEGIN:STANDARD
TZOFFSETFROM:+0200
TZOFFSETTO:+0100
TZNAME:CET
DTSTART:20241027T010000
END:STANDARD
END:VTIMEZONE
BEGIN:VEVENT
DTSTART;TZID=Europe/Vienna:20241027T140000
DTEND;TZID=Europe/Vienna:20241027T160000
DTSTAMP:20260423T005033
CREATED:20241022T203204Z
LAST-MODIFIED:20241022T203505Z
UID:10000294-1730037600-1730044800@horizon-ti.com
SUMMARY:Курс по рисуване с художника Жоро Петров
DESCRIPTION:Ще се учим кое е красивото и защо\, как да го търсим в рисуването\, в съчетанието на цветовете. Ще правим уникални подаръци за приятелите си.
URL:https://horizon-ti.com/event/%d0%ba%d1%83%d1%80%d1%81-%d0%bf%d0%be-%d1%80%d0%b8%d1%81%d1%83%d0%b2%d0%b0%d0%bd%d0%b5-%d1%81-%d1%85%d1%83%d0%b4%d0%be%d0%b6%d0%bd%d0%b8%d0%ba%d0%b0-%d0%b6%d0%be%d1%80%d0%be-%d0%bf%d0%b5%d1%82%d1%80/
LOCATION:Виена\, Haslingergasse 16\, 1170\, Австрия
ATTACH;FMTTYPE=image/jpeg:https://horizon-ti.com/wp-content/uploads/2024/10/art-featured.jpg
END:VEVENT
BEGIN:VEVENT
DTSTART;TZID=Europe/Vienna:20240901T093000
DTEND;TZID=Europe/Vienna:20240901T120000
DTSTAMP:20260423T005033
CREATED:20240227T131411Z
LAST-MODIFIED:20240828T112645Z
UID:10000285-1725183000-1725192000@horizon-ti.com
SUMMARY:Курс по народни танци
DESCRIPTION:Здравейте\, приятели\, след лятната почивка продължаваме с нашите неделни срещи. Първото ни събиране е на 1-ви Септември и ще е на открито\, за да се насладим на хубавото време и на българските народни танци. Сборен пункт в 9:30 на метростанция Neue Donau или директно в 10:00 тук: \nGolfstüberl  (Arbeiterstrandbadstraße\, 1210 Wien) \nВ близост има плаж и който желае\, може да продължи със слънчеви бани.
URL:https://horizon-ti.com/event/%d0%bd%d0%b0%d1%80%d0%be%d0%b4%d0%bd%d0%b8-%d1%82%d0%b0%d0%bd%d1%86%d0%b8/
LOCATION:Виена\, Haslingergasse 16\, 1170\, Австрия
CATEGORIES:Изкуство
ATTACH;FMTTYPE=image/jpeg:https://horizon-ti.com/wp-content/uploads/2024/02/probujdane-s-horo14-e1724791539777.jpg
END:VEVENT
BEGIN:VEVENT
DTSTART;TZID=Europe/Vienna:20240511T113000
DTEND;TZID=Europe/Vienna:20240511T200000
DTSTAMP:20260423T005033
CREATED:20240501T110851Z
LAST-MODIFIED:20240501T111100Z
UID:10000290-1715427000-1715457600@horizon-ti.com
SUMMARY:Психология и Вяра
DESCRIPTION:Всеки е добре дошъл\, не е нужно записване! \nНа 11.05.2024 ще ни гостува Ирена Стоева – тя е психолог\, специализирала е когнитивно-поведенческа психотерапия. Работи с тревожност\, депресии\, паник-атаки\, бърн-аут\, стрес и емоционален дискомфорт. Консултант на двойки и семейства\, обучител и треньор за семейни взаимоотношения и родителски умения. \nТемите\, които ще разгледаме заедно са: \nОт 11:30 ч. – тема: „ДО ТВОЕТО РАМО“.\nВсички искаме да бъдем чути\, приети\, обичани. Ще говорим за възможността да намерим пътя и да бъдем един до друг\, въпреки различията и конфликтите\, през които преминаваме. \nОт 17:30 ч. – ателие: „МИСЛОВНИТЕ ГРЕШКИ“\nЩе бъдат представени техники от психотерапията. Ще има възможност за въпроси. \nОт 19:00 ч. – тема: „СЕЗОНИТЕ НА БРАКА“\n„И заживели щастливо до края на дните си…“. Ще разберем\, че всеки брак закономерно преминава през различни фази\, ще разгледаме техните характеристики и как да продължим напред. Много по-лесно е да имаме карта за пътешествието. Когато се опознаем\, можем да започнем истински да се обичаме и да преоткрием връзката си.
URL:https://horizon-ti.com/event/976/
LOCATION:Виена\, Haslingergasse 16\, 1170\, Австрия
ATTACH;FMTTYPE=image/jpeg:https://horizon-ti.com/wp-content/uploads/2024/05/IMG-20240429-WA0003.jpg
END:VEVENT
BEGIN:VEVENT
DTSTART;TZID=Europe/Vienna:20240428T133000
DTEND;TZID=Europe/Vienna:20240428T173000
DTSTAMP:20260423T005033
CREATED:20240412T185030Z
LAST-MODIFIED:20240412T185030Z
UID:10000288-1714311000-1714325400@horizon-ti.com
SUMMARY:Шев и кройка
DESCRIPTION:Таксата за това събитие е 5 Евро!! \nВ последната неделя на месец април ще се съберем отново\, за да се научим как се вземат мерки\, как се крои е как сами да си ушием пола\, риза или рокля.
URL:https://horizon-ti.com/event/%d1%88%d0%b5%d0%b2-%d0%b8-%d0%ba%d1%80%d0%be%d0%b9%d0%ba%d0%b0/
CATEGORIES:Изкуство
ATTACH;FMTTYPE=image/jpeg:https://horizon-ti.com/wp-content/uploads/2024/04/sewing-external.jpg
END:VEVENT
BEGIN:VEVENT
DTSTART;TZID=Europe/Vienna:20240317T150000
DTEND;TZID=Europe/Vienna:20240317T160000
DTSTAMP:20260423T005033
CREATED:20240204T160013Z
LAST-MODIFIED:20240307T102024Z
UID:10000277-1710687600-1710691200@horizon-ti.com
SUMMARY:Музика за деца
DESCRIPTION:Ако вашето дете обича да пее\, тук ще има чудесната възможност да научи много детски песнички\, любими на българските деца и да ги изпълнява заедно със свои връстници. Необходимо е предварително записване!
URL:https://horizon-ti.com/event/%d0%bc%d1%83%d0%b7%d0%b8%d0%ba%d0%b0-%d0%b7%d0%b0-%d0%b4%d0%b5%d1%86%d0%b0-2/
LOCATION:Виена\, Haslingergasse 16\, 1170\, Австрия
CATEGORIES:Детски,Музика
ATTACH;FMTTYPE=image/jpeg:https://horizon-ti.com/wp-content/uploads/2023/11/medium-shot-kids-singing-together-sunday-school-scaled-e1699443981535.jpg
END:VEVENT
BEGIN:VEVENT
DTSTART;TZID=Europe/Vienna:20240305T160000
DTEND;TZID=Europe/Vienna:20240305T170000
DTSTAMP:20260423T005033
CREATED:20240215T141616Z
LAST-MODIFIED:20240215T141616Z
UID:10000283-1709654400-1709658000@horizon-ti.com
SUMMARY:Арт-ателие за деца
DESCRIPTION:Ако детето ви обича да твори\, заповядайте при нас\, където ще създаваме красиви неща\, ще се развиваме и забавляваме заедно! \nНеобходимо е предварително записване!
URL:https://horizon-ti.com/event/%d0%b0%d1%80%d1%82-%d0%b0%d1%82%d0%b5%d0%bb%d0%b8%d0%b5-%d0%b7%d0%b0-%d0%b4%d0%b5%d1%86%d0%b0/
LOCATION:Виена\, Haslingergasse 16\, 1170\, Австрия
CATEGORIES:Детски,Изкуство
ATTACH;FMTTYPE=image/jpeg:https://horizon-ti.com/wp-content/uploads/2023/11/colorful-paper-chains-still-life-scaled-e1699819773414.jpg
END:VEVENT
END:VCALENDAR