BEGIN:VCALENDAR
VERSION:2.0
PRODID:-//Хоризонти - ECPv6.2.8.2//NONSGML v1.0//EN
CALSCALE:GREGORIAN
METHOD:PUBLISH
X-ORIGINAL-URL:https://horizon-ti.com
X-WR-CALDESC:Events for Хоризонти
REFRESH-INTERVAL;VALUE=DURATION:PT1H
X-Robots-Tag:noindex
X-PUBLISHED-TTL:PT1H
BEGIN:VTIMEZONE
TZID:Europe/Vienna
BEGIN:DAYLIGHT
TZOFFSETFROM:+0100
TZOFFSETTO:+0200
TZNAME:CEST
DTSTART:20270328T010000
END:DAYLIGHT
BEGIN:STANDARD
TZOFFSETFROM:+0200
TZOFFSETTO:+0100
TZNAME:CET
DTSTART:20271031T010000
END:STANDARD
END:VTIMEZONE
BEGIN:VEVENT
DTSTART;TZID=Europe/Vienna:20270110T100000
DTEND;TZID=Europe/Vienna:20270110T120000
DTSTAMP:20260422T033800
CREATED:20250115T101521Z
LAST-MODIFIED:20250115T101522Z
UID:10000410-1799575200-1799582400@horizon-ti.com
SUMMARY:Немски Език
DESCRIPTION:Това е курс\, специално адаптиран за българи. Всяка неделя от 10:00 часа.  Не е необходимо предварително записване!
URL:https://horizon-ti.com/event/%d0%bd%d0%b5%d0%bc%d1%81%d0%ba%d0%b8-%d0%b5%d0%b7%d0%b8%d0%ba-4-2/2027-01-10/
LOCATION:Виена\, Haslingergasse 16\, 1170\, Австрия
CATEGORIES:Езици
ATTACH;FMTTYPE=image/jpeg:https://horizon-ti.com/wp-content/uploads/2023/11/claudio-schwarz-TScGhJM716g-unsplash-scaled-e1699637998667.jpg
END:VEVENT
BEGIN:VEVENT
DTSTART;TZID=Europe/Vienna:20270117T100000
DTEND;TZID=Europe/Vienna:20270117T120000
DTSTAMP:20260422T033800
CREATED:20250115T101521Z
LAST-MODIFIED:20250115T101522Z
UID:10000411-1800180000-1800187200@horizon-ti.com
SUMMARY:Немски Език
DESCRIPTION:Това е курс\, специално адаптиран за българи. Всяка неделя от 10:00 часа.  Не е необходимо предварително записване!
URL:https://horizon-ti.com/event/%d0%bd%d0%b5%d0%bc%d1%81%d0%ba%d0%b8-%d0%b5%d0%b7%d0%b8%d0%ba-4-2/2027-01-17/
LOCATION:Виена\, Haslingergasse 16\, 1170\, Австрия
CATEGORIES:Езици
ATTACH;FMTTYPE=image/jpeg:https://horizon-ti.com/wp-content/uploads/2023/11/claudio-schwarz-TScGhJM716g-unsplash-scaled-e1699637998667.jpg
END:VEVENT
BEGIN:VEVENT
DTSTART;TZID=Europe/Vienna:20270124T100000
DTEND;TZID=Europe/Vienna:20270124T120000
DTSTAMP:20260422T033800
CREATED:20250115T101521Z
LAST-MODIFIED:20250115T101522Z
UID:10000412-1800784800-1800792000@horizon-ti.com
SUMMARY:Немски Език
DESCRIPTION:Това е курс\, специално адаптиран за българи. Всяка неделя от 10:00 часа.  Не е необходимо предварително записване!
URL:https://horizon-ti.com/event/%d0%bd%d0%b5%d0%bc%d1%81%d0%ba%d0%b8-%d0%b5%d0%b7%d0%b8%d0%ba-4-2/2027-01-24/
LOCATION:Виена\, Haslingergasse 16\, 1170\, Австрия
CATEGORIES:Езици
ATTACH;FMTTYPE=image/jpeg:https://horizon-ti.com/wp-content/uploads/2023/11/claudio-schwarz-TScGhJM716g-unsplash-scaled-e1699637998667.jpg
END:VEVENT
BEGIN:VEVENT
DTSTART;TZID=Europe/Vienna:20270131T100000
DTEND;TZID=Europe/Vienna:20270131T120000
DTSTAMP:20260422T033800
CREATED:20250115T101521Z
LAST-MODIFIED:20250115T101522Z
UID:10000413-1801389600-1801396800@horizon-ti.com
SUMMARY:Немски Език
DESCRIPTION:Това е курс\, специално адаптиран за българи. Всяка неделя от 10:00 часа.  Не е необходимо предварително записване!
URL:https://horizon-ti.com/event/%d0%bd%d0%b5%d0%bc%d1%81%d0%ba%d0%b8-%d0%b5%d0%b7%d0%b8%d0%ba-4-2/2027-01-31/
LOCATION:Виена\, Haslingergasse 16\, 1170\, Австрия
CATEGORIES:Езици
ATTACH;FMTTYPE=image/jpeg:https://horizon-ti.com/wp-content/uploads/2023/11/claudio-schwarz-TScGhJM716g-unsplash-scaled-e1699637998667.jpg
END:VEVENT
BEGIN:VEVENT
DTSTART;TZID=Europe/Vienna:20270207T100000
DTEND;TZID=Europe/Vienna:20270207T120000
DTSTAMP:20260422T033800
CREATED:20250115T101521Z
LAST-MODIFIED:20250115T101522Z
UID:10000414-1801994400-1802001600@horizon-ti.com
SUMMARY:Немски Език
DESCRIPTION:Това е курс\, специално адаптиран за българи. Всяка неделя от 10:00 часа.  Не е необходимо предварително записване!
URL:https://horizon-ti.com/event/%d0%bd%d0%b5%d0%bc%d1%81%d0%ba%d0%b8-%d0%b5%d0%b7%d0%b8%d0%ba-4-2/2027-02-07/
LOCATION:Виена\, Haslingergasse 16\, 1170\, Австрия
CATEGORIES:Езици
ATTACH;FMTTYPE=image/jpeg:https://horizon-ti.com/wp-content/uploads/2023/11/claudio-schwarz-TScGhJM716g-unsplash-scaled-e1699637998667.jpg
END:VEVENT
BEGIN:VEVENT
DTSTART;TZID=Europe/Vienna:20270214T100000
DTEND;TZID=Europe/Vienna:20270214T120000
DTSTAMP:20260422T033800
CREATED:20250115T101521Z
LAST-MODIFIED:20250115T101522Z
UID:10000415-1802599200-1802606400@horizon-ti.com
SUMMARY:Немски Език
DESCRIPTION:Това е курс\, специално адаптиран за българи. Всяка неделя от 10:00 часа.  Не е необходимо предварително записване!
URL:https://horizon-ti.com/event/%d0%bd%d0%b5%d0%bc%d1%81%d0%ba%d0%b8-%d0%b5%d0%b7%d0%b8%d0%ba-4-2/2027-02-14/
LOCATION:Виена\, Haslingergasse 16\, 1170\, Австрия
CATEGORIES:Езици
ATTACH;FMTTYPE=image/jpeg:https://horizon-ti.com/wp-content/uploads/2023/11/claudio-schwarz-TScGhJM716g-unsplash-scaled-e1699637998667.jpg
END:VEVENT
BEGIN:VEVENT
DTSTART;TZID=Europe/Vienna:20270221T100000
DTEND;TZID=Europe/Vienna:20270221T120000
DTSTAMP:20260422T033800
CREATED:20250115T101521Z
LAST-MODIFIED:20250115T101522Z
UID:10000416-1803204000-1803211200@horizon-ti.com
SUMMARY:Немски Език
DESCRIPTION:Това е курс\, специално адаптиран за българи. Всяка неделя от 10:00 часа.  Не е необходимо предварително записване!
URL:https://horizon-ti.com/event/%d0%bd%d0%b5%d0%bc%d1%81%d0%ba%d0%b8-%d0%b5%d0%b7%d0%b8%d0%ba-4-2/2027-02-21/
LOCATION:Виена\, Haslingergasse 16\, 1170\, Австрия
CATEGORIES:Езици
ATTACH;FMTTYPE=image/jpeg:https://horizon-ti.com/wp-content/uploads/2023/11/claudio-schwarz-TScGhJM716g-unsplash-scaled-e1699637998667.jpg
END:VEVENT
BEGIN:VEVENT
DTSTART;TZID=Europe/Vienna:20270228T100000
DTEND;TZID=Europe/Vienna:20270228T120000
DTSTAMP:20260422T033800
CREATED:20250115T101521Z
LAST-MODIFIED:20250115T101522Z
UID:10000417-1803808800-1803816000@horizon-ti.com
SUMMARY:Немски Език
DESCRIPTION:Това е курс\, специално адаптиран за българи. Всяка неделя от 10:00 часа.  Не е необходимо предварително записване!
URL:https://horizon-ti.com/event/%d0%bd%d0%b5%d0%bc%d1%81%d0%ba%d0%b8-%d0%b5%d0%b7%d0%b8%d0%ba-4-2/2027-02-28/
LOCATION:Виена\, Haslingergasse 16\, 1170\, Австрия
CATEGORIES:Езици
ATTACH;FMTTYPE=image/jpeg:https://horizon-ti.com/wp-content/uploads/2023/11/claudio-schwarz-TScGhJM716g-unsplash-scaled-e1699637998667.jpg
END:VEVENT
BEGIN:VEVENT
DTSTART;TZID=Europe/Vienna:20270307T100000
DTEND;TZID=Europe/Vienna:20270307T120000
DTSTAMP:20260422T033800
CREATED:20250115T101521Z
LAST-MODIFIED:20250115T101522Z
UID:10000418-1804413600-1804420800@horizon-ti.com
SUMMARY:Немски Език
DESCRIPTION:Това е курс\, специално адаптиран за българи. Всяка неделя от 10:00 часа.  Не е необходимо предварително записване!
URL:https://horizon-ti.com/event/%d0%bd%d0%b5%d0%bc%d1%81%d0%ba%d0%b8-%d0%b5%d0%b7%d0%b8%d0%ba-4-2/2027-03-07/
LOCATION:Виена\, Haslingergasse 16\, 1170\, Австрия
CATEGORIES:Езици
ATTACH;FMTTYPE=image/jpeg:https://horizon-ti.com/wp-content/uploads/2023/11/claudio-schwarz-TScGhJM716g-unsplash-scaled-e1699637998667.jpg
END:VEVENT
BEGIN:VEVENT
DTSTART;TZID=Europe/Vienna:20270314T100000
DTEND;TZID=Europe/Vienna:20270314T120000
DTSTAMP:20260422T033800
CREATED:20250115T101521Z
LAST-MODIFIED:20250115T101522Z
UID:10000419-1805018400-1805025600@horizon-ti.com
SUMMARY:Немски Език
DESCRIPTION:Това е курс\, специално адаптиран за българи. Всяка неделя от 10:00 часа.  Не е необходимо предварително записване!
URL:https://horizon-ti.com/event/%d0%bd%d0%b5%d0%bc%d1%81%d0%ba%d0%b8-%d0%b5%d0%b7%d0%b8%d0%ba-4-2/2027-03-14/
LOCATION:Виена\, Haslingergasse 16\, 1170\, Австрия
CATEGORIES:Езици
ATTACH;FMTTYPE=image/jpeg:https://horizon-ti.com/wp-content/uploads/2023/11/claudio-schwarz-TScGhJM716g-unsplash-scaled-e1699637998667.jpg
END:VEVENT
BEGIN:VEVENT
DTSTART;TZID=Europe/Vienna:20270321T100000
DTEND;TZID=Europe/Vienna:20270321T120000
DTSTAMP:20260422T033800
CREATED:20250115T101521Z
LAST-MODIFIED:20250115T101522Z
UID:10000420-1805623200-1805630400@horizon-ti.com
SUMMARY:Немски Език
DESCRIPTION:Това е курс\, специално адаптиран за българи. Всяка неделя от 10:00 часа.  Не е необходимо предварително записване!
URL:https://horizon-ti.com/event/%d0%bd%d0%b5%d0%bc%d1%81%d0%ba%d0%b8-%d0%b5%d0%b7%d0%b8%d0%ba-4-2/2027-03-21/
LOCATION:Виена\, Haslingergasse 16\, 1170\, Австрия
CATEGORIES:Езици
ATTACH;FMTTYPE=image/jpeg:https://horizon-ti.com/wp-content/uploads/2023/11/claudio-schwarz-TScGhJM716g-unsplash-scaled-e1699637998667.jpg
END:VEVENT
BEGIN:VEVENT
DTSTART;TZID=Europe/Vienna:20270328T100000
DTEND;TZID=Europe/Vienna:20270328T120000
DTSTAMP:20260422T033800
CREATED:20250115T101521Z
LAST-MODIFIED:20250115T101522Z
UID:10000421-1806228000-1806235200@horizon-ti.com
SUMMARY:Немски Език
DESCRIPTION:Това е курс\, специално адаптиран за българи. Всяка неделя от 10:00 часа.  Не е необходимо предварително записване!
URL:https://horizon-ti.com/event/%d0%bd%d0%b5%d0%bc%d1%81%d0%ba%d0%b8-%d0%b5%d0%b7%d0%b8%d0%ba-4-2/2027-03-28/
LOCATION:Виена\, Haslingergasse 16\, 1170\, Австрия
CATEGORIES:Езици
ATTACH;FMTTYPE=image/jpeg:https://horizon-ti.com/wp-content/uploads/2023/11/claudio-schwarz-TScGhJM716g-unsplash-scaled-e1699637998667.jpg
END:VEVENT
BEGIN:VEVENT
DTSTART;TZID=Europe/Vienna:20270404T100000
DTEND;TZID=Europe/Vienna:20270404T120000
DTSTAMP:20260422T033800
CREATED:20250115T101521Z
LAST-MODIFIED:20250115T101522Z
UID:10000422-1806832800-1806840000@horizon-ti.com
SUMMARY:Немски Език
DESCRIPTION:Това е курс\, специално адаптиран за българи. Всяка неделя от 10:00 часа.  Не е необходимо предварително записване!
URL:https://horizon-ti.com/event/%d0%bd%d0%b5%d0%bc%d1%81%d0%ba%d0%b8-%d0%b5%d0%b7%d0%b8%d0%ba-4-2/2027-04-04/
LOCATION:Виена\, Haslingergasse 16\, 1170\, Австрия
CATEGORIES:Езици
ATTACH;FMTTYPE=image/jpeg:https://horizon-ti.com/wp-content/uploads/2023/11/claudio-schwarz-TScGhJM716g-unsplash-scaled-e1699637998667.jpg
END:VEVENT
BEGIN:VEVENT
DTSTART;TZID=Europe/Vienna:20270411T100000
DTEND;TZID=Europe/Vienna:20270411T120000
DTSTAMP:20260422T033800
CREATED:20250115T101521Z
LAST-MODIFIED:20250115T101522Z
UID:10000423-1807437600-1807444800@horizon-ti.com
SUMMARY:Немски Език
DESCRIPTION:Това е курс\, специално адаптиран за българи. Всяка неделя от 10:00 часа.  Не е необходимо предварително записване!
URL:https://horizon-ti.com/event/%d0%bd%d0%b5%d0%bc%d1%81%d0%ba%d0%b8-%d0%b5%d0%b7%d0%b8%d0%ba-4-2/2027-04-11/
LOCATION:Виена\, Haslingergasse 16\, 1170\, Австрия
CATEGORIES:Езици
ATTACH;FMTTYPE=image/jpeg:https://horizon-ti.com/wp-content/uploads/2023/11/claudio-schwarz-TScGhJM716g-unsplash-scaled-e1699637998667.jpg
END:VEVENT
BEGIN:VEVENT
DTSTART;TZID=Europe/Vienna:20270418T100000
DTEND;TZID=Europe/Vienna:20270418T120000
DTSTAMP:20260422T033800
CREATED:20250115T101521Z
LAST-MODIFIED:20250115T101522Z
UID:10000424-1808042400-1808049600@horizon-ti.com
SUMMARY:Немски Език
DESCRIPTION:Това е курс\, специално адаптиран за българи. Всяка неделя от 10:00 часа.  Не е необходимо предварително записване!
URL:https://horizon-ti.com/event/%d0%bd%d0%b5%d0%bc%d1%81%d0%ba%d0%b8-%d0%b5%d0%b7%d0%b8%d0%ba-4-2/2027-04-18/
LOCATION:Виена\, Haslingergasse 16\, 1170\, Австрия
CATEGORIES:Езици
ATTACH;FMTTYPE=image/jpeg:https://horizon-ti.com/wp-content/uploads/2023/11/claudio-schwarz-TScGhJM716g-unsplash-scaled-e1699637998667.jpg
END:VEVENT
BEGIN:VEVENT
DTSTART;TZID=Europe/Vienna:20270425T100000
DTEND;TZID=Europe/Vienna:20270425T120000
DTSTAMP:20260422T033800
CREATED:20250115T101521Z
LAST-MODIFIED:20250115T101522Z
UID:10000425-1808647200-1808654400@horizon-ti.com
SUMMARY:Немски Език
DESCRIPTION:Това е курс\, специално адаптиран за българи. Всяка неделя от 10:00 часа.  Не е необходимо предварително записване!
URL:https://horizon-ti.com/event/%d0%bd%d0%b5%d0%bc%d1%81%d0%ba%d0%b8-%d0%b5%d0%b7%d0%b8%d0%ba-4-2/2027-04-25/
LOCATION:Виена\, Haslingergasse 16\, 1170\, Австрия
CATEGORIES:Езици
ATTACH;FMTTYPE=image/jpeg:https://horizon-ti.com/wp-content/uploads/2023/11/claudio-schwarz-TScGhJM716g-unsplash-scaled-e1699637998667.jpg
END:VEVENT
BEGIN:VEVENT
DTSTART;TZID=Europe/Vienna:20270502T100000
DTEND;TZID=Europe/Vienna:20270502T120000
DTSTAMP:20260422T033800
CREATED:20250115T101521Z
LAST-MODIFIED:20250115T101522Z
UID:10000426-1809252000-1809259200@horizon-ti.com
SUMMARY:Немски Език
DESCRIPTION:Това е курс\, специално адаптиран за българи. Всяка неделя от 10:00 часа.  Не е необходимо предварително записване!
URL:https://horizon-ti.com/event/%d0%bd%d0%b5%d0%bc%d1%81%d0%ba%d0%b8-%d0%b5%d0%b7%d0%b8%d0%ba-4-2/2027-05-02/
LOCATION:Виена\, Haslingergasse 16\, 1170\, Австрия
CATEGORIES:Езици
ATTACH;FMTTYPE=image/jpeg:https://horizon-ti.com/wp-content/uploads/2023/11/claudio-schwarz-TScGhJM716g-unsplash-scaled-e1699637998667.jpg
END:VEVENT
BEGIN:VEVENT
DTSTART;TZID=Europe/Vienna:20270509T100000
DTEND;TZID=Europe/Vienna:20270509T120000
DTSTAMP:20260422T033800
CREATED:20250115T101521Z
LAST-MODIFIED:20250115T101522Z
UID:10000427-1809856800-1809864000@horizon-ti.com
SUMMARY:Немски Език
DESCRIPTION:Това е курс\, специално адаптиран за българи. Всяка неделя от 10:00 часа.  Не е необходимо предварително записване!
URL:https://horizon-ti.com/event/%d0%bd%d0%b5%d0%bc%d1%81%d0%ba%d0%b8-%d0%b5%d0%b7%d0%b8%d0%ba-4-2/2027-05-09/
LOCATION:Виена\, Haslingergasse 16\, 1170\, Австрия
CATEGORIES:Езици
ATTACH;FMTTYPE=image/jpeg:https://horizon-ti.com/wp-content/uploads/2023/11/claudio-schwarz-TScGhJM716g-unsplash-scaled-e1699637998667.jpg
END:VEVENT
BEGIN:VEVENT
DTSTART;TZID=Europe/Vienna:20270516T100000
DTEND;TZID=Europe/Vienna:20270516T120000
DTSTAMP:20260422T033800
CREATED:20250115T101521Z
LAST-MODIFIED:20250115T101522Z
UID:10000428-1810461600-1810468800@horizon-ti.com
SUMMARY:Немски Език
DESCRIPTION:Това е курс\, специално адаптиран за българи. Всяка неделя от 10:00 часа.  Не е необходимо предварително записване!
URL:https://horizon-ti.com/event/%d0%bd%d0%b5%d0%bc%d1%81%d0%ba%d0%b8-%d0%b5%d0%b7%d0%b8%d0%ba-4-2/2027-05-16/
LOCATION:Виена\, Haslingergasse 16\, 1170\, Австрия
CATEGORIES:Езици
ATTACH;FMTTYPE=image/jpeg:https://horizon-ti.com/wp-content/uploads/2023/11/claudio-schwarz-TScGhJM716g-unsplash-scaled-e1699637998667.jpg
END:VEVENT
BEGIN:VEVENT
DTSTART;TZID=Europe/Vienna:20270523T100000
DTEND;TZID=Europe/Vienna:20270523T120000
DTSTAMP:20260422T033800
CREATED:20250115T101521Z
LAST-MODIFIED:20250115T101522Z
UID:10000429-1811066400-1811073600@horizon-ti.com
SUMMARY:Немски Език
DESCRIPTION:Това е курс\, специално адаптиран за българи. Всяка неделя от 10:00 часа.  Не е необходимо предварително записване!
URL:https://horizon-ti.com/event/%d0%bd%d0%b5%d0%bc%d1%81%d0%ba%d0%b8-%d0%b5%d0%b7%d0%b8%d0%ba-4-2/2027-05-23/
LOCATION:Виена\, Haslingergasse 16\, 1170\, Австрия
CATEGORIES:Езици
ATTACH;FMTTYPE=image/jpeg:https://horizon-ti.com/wp-content/uploads/2023/11/claudio-schwarz-TScGhJM716g-unsplash-scaled-e1699637998667.jpg
END:VEVENT
BEGIN:VEVENT
DTSTART;TZID=Europe/Vienna:20270530T100000
DTEND;TZID=Europe/Vienna:20270530T120000
DTSTAMP:20260422T033800
CREATED:20250115T101521Z
LAST-MODIFIED:20250115T101522Z
UID:10000430-1811671200-1811678400@horizon-ti.com
SUMMARY:Немски Език
DESCRIPTION:Това е курс\, специално адаптиран за българи. Всяка неделя от 10:00 часа.  Не е необходимо предварително записване!
URL:https://horizon-ti.com/event/%d0%bd%d0%b5%d0%bc%d1%81%d0%ba%d0%b8-%d0%b5%d0%b7%d0%b8%d0%ba-4-2/2027-05-30/
LOCATION:Виена\, Haslingergasse 16\, 1170\, Австрия
CATEGORIES:Езици
ATTACH;FMTTYPE=image/jpeg:https://horizon-ti.com/wp-content/uploads/2023/11/claudio-schwarz-TScGhJM716g-unsplash-scaled-e1699637998667.jpg
END:VEVENT
BEGIN:VEVENT
DTSTART;TZID=Europe/Vienna:20270606T100000
DTEND;TZID=Europe/Vienna:20270606T120000
DTSTAMP:20260422T033800
CREATED:20250115T101521Z
LAST-MODIFIED:20250115T101522Z
UID:10000431-1812276000-1812283200@horizon-ti.com
SUMMARY:Немски Език
DESCRIPTION:Това е курс\, специално адаптиран за българи. Всяка неделя от 10:00 часа.  Не е необходимо предварително записване!
URL:https://horizon-ti.com/event/%d0%bd%d0%b5%d0%bc%d1%81%d0%ba%d0%b8-%d0%b5%d0%b7%d0%b8%d0%ba-4-2/2027-06-06/
LOCATION:Виена\, Haslingergasse 16\, 1170\, Австрия
CATEGORIES:Езици
ATTACH;FMTTYPE=image/jpeg:https://horizon-ti.com/wp-content/uploads/2023/11/claudio-schwarz-TScGhJM716g-unsplash-scaled-e1699637998667.jpg
END:VEVENT
BEGIN:VEVENT
DTSTART;TZID=Europe/Vienna:20270613T100000
DTEND;TZID=Europe/Vienna:20270613T120000
DTSTAMP:20260422T033800
CREATED:20250115T101521Z
LAST-MODIFIED:20250115T101522Z
UID:10000432-1812880800-1812888000@horizon-ti.com
SUMMARY:Немски Език
DESCRIPTION:Това е курс\, специално адаптиран за българи. Всяка неделя от 10:00 часа.  Не е необходимо предварително записване!
URL:https://horizon-ti.com/event/%d0%bd%d0%b5%d0%bc%d1%81%d0%ba%d0%b8-%d0%b5%d0%b7%d0%b8%d0%ba-4-2/2027-06-13/
LOCATION:Виена\, Haslingergasse 16\, 1170\, Австрия
CATEGORIES:Езици
ATTACH;FMTTYPE=image/jpeg:https://horizon-ti.com/wp-content/uploads/2023/11/claudio-schwarz-TScGhJM716g-unsplash-scaled-e1699637998667.jpg
END:VEVENT
BEGIN:VEVENT
DTSTART;TZID=Europe/Vienna:20270620T100000
DTEND;TZID=Europe/Vienna:20270620T120000
DTSTAMP:20260422T033800
CREATED:20250115T101521Z
LAST-MODIFIED:20250115T101522Z
UID:10000433-1813485600-1813492800@horizon-ti.com
SUMMARY:Немски Език
DESCRIPTION:Това е курс\, специално адаптиран за българи. Всяка неделя от 10:00 часа.  Не е необходимо предварително записване!
URL:https://horizon-ti.com/event/%d0%bd%d0%b5%d0%bc%d1%81%d0%ba%d0%b8-%d0%b5%d0%b7%d0%b8%d0%ba-4-2/2027-06-20/
LOCATION:Виена\, Haslingergasse 16\, 1170\, Австрия
CATEGORIES:Езици
ATTACH;FMTTYPE=image/jpeg:https://horizon-ti.com/wp-content/uploads/2023/11/claudio-schwarz-TScGhJM716g-unsplash-scaled-e1699637998667.jpg
END:VEVENT
BEGIN:VEVENT
DTSTART;TZID=Europe/Vienna:20270627T100000
DTEND;TZID=Europe/Vienna:20270627T120000
DTSTAMP:20260422T033800
CREATED:20250115T101521Z
LAST-MODIFIED:20250115T101522Z
UID:10000434-1814090400-1814097600@horizon-ti.com
SUMMARY:Немски Език
DESCRIPTION:Това е курс\, специално адаптиран за българи. Всяка неделя от 10:00 часа.  Не е необходимо предварително записване!
URL:https://horizon-ti.com/event/%d0%bd%d0%b5%d0%bc%d1%81%d0%ba%d0%b8-%d0%b5%d0%b7%d0%b8%d0%ba-4-2/2027-06-27/
LOCATION:Виена\, Haslingergasse 16\, 1170\, Австрия
CATEGORIES:Езици
ATTACH;FMTTYPE=image/jpeg:https://horizon-ti.com/wp-content/uploads/2023/11/claudio-schwarz-TScGhJM716g-unsplash-scaled-e1699637998667.jpg
END:VEVENT
BEGIN:VEVENT
DTSTART;TZID=Europe/Vienna:20270704T100000
DTEND;TZID=Europe/Vienna:20270704T120000
DTSTAMP:20260422T033800
CREATED:20250115T101521Z
LAST-MODIFIED:20250115T101522Z
UID:10000435-1814695200-1814702400@horizon-ti.com
SUMMARY:Немски Език
DESCRIPTION:Това е курс\, специално адаптиран за българи. Всяка неделя от 10:00 часа.  Не е необходимо предварително записване!
URL:https://horizon-ti.com/event/%d0%bd%d0%b5%d0%bc%d1%81%d0%ba%d0%b8-%d0%b5%d0%b7%d0%b8%d0%ba-4-2/2027-07-04/
LOCATION:Виена\, Haslingergasse 16\, 1170\, Австрия
CATEGORIES:Езици
ATTACH;FMTTYPE=image/jpeg:https://horizon-ti.com/wp-content/uploads/2023/11/claudio-schwarz-TScGhJM716g-unsplash-scaled-e1699637998667.jpg
END:VEVENT
BEGIN:VEVENT
DTSTART;TZID=Europe/Vienna:20270711T100000
DTEND;TZID=Europe/Vienna:20270711T120000
DTSTAMP:20260422T033800
CREATED:20250115T101521Z
LAST-MODIFIED:20250115T101522Z
UID:10000436-1815300000-1815307200@horizon-ti.com
SUMMARY:Немски Език
DESCRIPTION:Това е курс\, специално адаптиран за българи. Всяка неделя от 10:00 часа.  Не е необходимо предварително записване!
URL:https://horizon-ti.com/event/%d0%bd%d0%b5%d0%bc%d1%81%d0%ba%d0%b8-%d0%b5%d0%b7%d0%b8%d0%ba-4-2/2027-07-11/
LOCATION:Виена\, Haslingergasse 16\, 1170\, Австрия
CATEGORIES:Езици
ATTACH;FMTTYPE=image/jpeg:https://horizon-ti.com/wp-content/uploads/2023/11/claudio-schwarz-TScGhJM716g-unsplash-scaled-e1699637998667.jpg
END:VEVENT
BEGIN:VEVENT
DTSTART;TZID=Europe/Vienna:20270718T100000
DTEND;TZID=Europe/Vienna:20270718T120000
DTSTAMP:20260422T033800
CREATED:20250115T101521Z
LAST-MODIFIED:20250115T101522Z
UID:10000437-1815904800-1815912000@horizon-ti.com
SUMMARY:Немски Език
DESCRIPTION:Това е курс\, специално адаптиран за българи. Всяка неделя от 10:00 часа.  Не е необходимо предварително записване!
URL:https://horizon-ti.com/event/%d0%bd%d0%b5%d0%bc%d1%81%d0%ba%d0%b8-%d0%b5%d0%b7%d0%b8%d0%ba-4-2/2027-07-18/
LOCATION:Виена\, Haslingergasse 16\, 1170\, Австрия
CATEGORIES:Езици
ATTACH;FMTTYPE=image/jpeg:https://horizon-ti.com/wp-content/uploads/2023/11/claudio-schwarz-TScGhJM716g-unsplash-scaled-e1699637998667.jpg
END:VEVENT
BEGIN:VEVENT
DTSTART;TZID=Europe/Vienna:20270725T100000
DTEND;TZID=Europe/Vienna:20270725T120000
DTSTAMP:20260422T033800
CREATED:20250115T101521Z
LAST-MODIFIED:20250115T101522Z
UID:10000438-1816509600-1816516800@horizon-ti.com
SUMMARY:Немски Език
DESCRIPTION:Това е курс\, специално адаптиран за българи. Всяка неделя от 10:00 часа.  Не е необходимо предварително записване!
URL:https://horizon-ti.com/event/%d0%bd%d0%b5%d0%bc%d1%81%d0%ba%d0%b8-%d0%b5%d0%b7%d0%b8%d0%ba-4-2/2027-07-25/
LOCATION:Виена\, Haslingergasse 16\, 1170\, Австрия
CATEGORIES:Езици
ATTACH;FMTTYPE=image/jpeg:https://horizon-ti.com/wp-content/uploads/2023/11/claudio-schwarz-TScGhJM716g-unsplash-scaled-e1699637998667.jpg
END:VEVENT
BEGIN:VEVENT
DTSTART;TZID=Europe/Vienna:20270801T100000
DTEND;TZID=Europe/Vienna:20270801T120000
DTSTAMP:20260422T033800
CREATED:20250115T101521Z
LAST-MODIFIED:20250115T101522Z
UID:10000439-1817114400-1817121600@horizon-ti.com
SUMMARY:Немски Език
DESCRIPTION:Това е курс\, специално адаптиран за българи. Всяка неделя от 10:00 часа.  Не е необходимо предварително записване!
URL:https://horizon-ti.com/event/%d0%bd%d0%b5%d0%bc%d1%81%d0%ba%d0%b8-%d0%b5%d0%b7%d0%b8%d0%ba-4-2/2027-08-01/
LOCATION:Виена\, Haslingergasse 16\, 1170\, Австрия
CATEGORIES:Езици
ATTACH;FMTTYPE=image/jpeg:https://horizon-ti.com/wp-content/uploads/2023/11/claudio-schwarz-TScGhJM716g-unsplash-scaled-e1699637998667.jpg
END:VEVENT
END:VCALENDAR