BEGIN:VCALENDAR
VERSION:2.0
PRODID:-//Хоризонти - ECPv6.2.8.2//NONSGML v1.0//EN
CALSCALE:GREGORIAN
METHOD:PUBLISH
X-ORIGINAL-URL:https://horizon-ti.com
X-WR-CALDESC:Events for Хоризонти
REFRESH-INTERVAL;VALUE=DURATION:PT1H
X-Robots-Tag:noindex
X-PUBLISHED-TTL:PT1H
BEGIN:VTIMEZONE
TZID:Europe/Vienna
BEGIN:DAYLIGHT
TZOFFSETFROM:+0100
TZOFFSETTO:+0200
TZNAME:CEST
DTSTART:20250330T010000
END:DAYLIGHT
BEGIN:STANDARD
TZOFFSETFROM:+0200
TZOFFSETTO:+0100
TZNAME:CET
DTSTART:20251026T010000
END:STANDARD
BEGIN:DAYLIGHT
TZOFFSETFROM:+0100
TZOFFSETTO:+0200
TZNAME:CEST
DTSTART:20260329T010000
END:DAYLIGHT
BEGIN:STANDARD
TZOFFSETFROM:+0200
TZOFFSETTO:+0100
TZNAME:CET
DTSTART:20261025T010000
END:STANDARD
END:VTIMEZONE
BEGIN:VEVENT
DTSTART;TZID=Europe/Vienna:20251207T100000
DTEND;TZID=Europe/Vienna:20251207T120000
DTSTAMP:20260423T003448
CREATED:20250115T101521Z
LAST-MODIFIED:20250115T101522Z
UID:10000353-1765101600-1765108800@horizon-ti.com
SUMMARY:Немски Език
DESCRIPTION:Това е курс\, специално адаптиран за българи. Всяка неделя от 10:00 часа.  Не е необходимо предварително записване!
URL:https://horizon-ti.com/event/%d0%bd%d0%b5%d0%bc%d1%81%d0%ba%d0%b8-%d0%b5%d0%b7%d0%b8%d0%ba-4-2/2025-12-07/
LOCATION:Виена\, Haslingergasse 16\, 1170\, Австрия
CATEGORIES:Езици
ATTACH;FMTTYPE=image/jpeg:https://horizon-ti.com/wp-content/uploads/2023/11/claudio-schwarz-TScGhJM716g-unsplash-scaled-e1699637998667.jpg
END:VEVENT
BEGIN:VEVENT
DTSTART;TZID=Europe/Vienna:20251214T100000
DTEND;TZID=Europe/Vienna:20251214T120000
DTSTAMP:20260423T003448
CREATED:20250115T101521Z
LAST-MODIFIED:20250115T101522Z
UID:10000354-1765706400-1765713600@horizon-ti.com
SUMMARY:Немски Език
DESCRIPTION:Това е курс\, специално адаптиран за българи. Всяка неделя от 10:00 часа.  Не е необходимо предварително записване!
URL:https://horizon-ti.com/event/%d0%bd%d0%b5%d0%bc%d1%81%d0%ba%d0%b8-%d0%b5%d0%b7%d0%b8%d0%ba-4-2/2025-12-14/
LOCATION:Виена\, Haslingergasse 16\, 1170\, Австрия
CATEGORIES:Езици
ATTACH;FMTTYPE=image/jpeg:https://horizon-ti.com/wp-content/uploads/2023/11/claudio-schwarz-TScGhJM716g-unsplash-scaled-e1699637998667.jpg
END:VEVENT
BEGIN:VEVENT
DTSTART;TZID=Europe/Vienna:20251221T100000
DTEND;TZID=Europe/Vienna:20251221T120000
DTSTAMP:20260423T003448
CREATED:20250115T101521Z
LAST-MODIFIED:20250115T101522Z
UID:10000355-1766311200-1766318400@horizon-ti.com
SUMMARY:Немски Език
DESCRIPTION:Това е курс\, специално адаптиран за българи. Всяка неделя от 10:00 часа.  Не е необходимо предварително записване!
URL:https://horizon-ti.com/event/%d0%bd%d0%b5%d0%bc%d1%81%d0%ba%d0%b8-%d0%b5%d0%b7%d0%b8%d0%ba-4-2/2025-12-21/
LOCATION:Виена\, Haslingergasse 16\, 1170\, Австрия
CATEGORIES:Езици
ATTACH;FMTTYPE=image/jpeg:https://horizon-ti.com/wp-content/uploads/2023/11/claudio-schwarz-TScGhJM716g-unsplash-scaled-e1699637998667.jpg
END:VEVENT
BEGIN:VEVENT
DTSTART;TZID=Europe/Vienna:20251228T100000
DTEND;TZID=Europe/Vienna:20251228T120000
DTSTAMP:20260423T003448
CREATED:20250115T101521Z
LAST-MODIFIED:20250115T101522Z
UID:10000356-1766916000-1766923200@horizon-ti.com
SUMMARY:Немски Език
DESCRIPTION:Това е курс\, специално адаптиран за българи. Всяка неделя от 10:00 часа.  Не е необходимо предварително записване!
URL:https://horizon-ti.com/event/%d0%bd%d0%b5%d0%bc%d1%81%d0%ba%d0%b8-%d0%b5%d0%b7%d0%b8%d0%ba-4-2/2025-12-28/
LOCATION:Виена\, Haslingergasse 16\, 1170\, Австрия
CATEGORIES:Езици
ATTACH;FMTTYPE=image/jpeg:https://horizon-ti.com/wp-content/uploads/2023/11/claudio-schwarz-TScGhJM716g-unsplash-scaled-e1699637998667.jpg
END:VEVENT
BEGIN:VEVENT
DTSTART;TZID=Europe/Vienna:20260104T100000
DTEND;TZID=Europe/Vienna:20260104T120000
DTSTAMP:20260423T003448
CREATED:20250115T101521Z
LAST-MODIFIED:20250115T101522Z
UID:10000357-1767520800-1767528000@horizon-ti.com
SUMMARY:Немски Език
DESCRIPTION:Това е курс\, специално адаптиран за българи. Всяка неделя от 10:00 часа.  Не е необходимо предварително записване!
URL:https://horizon-ti.com/event/%d0%bd%d0%b5%d0%bc%d1%81%d0%ba%d0%b8-%d0%b5%d0%b7%d0%b8%d0%ba-4-2/2026-01-04/
LOCATION:Виена\, Haslingergasse 16\, 1170\, Австрия
CATEGORIES:Езици
ATTACH;FMTTYPE=image/jpeg:https://horizon-ti.com/wp-content/uploads/2023/11/claudio-schwarz-TScGhJM716g-unsplash-scaled-e1699637998667.jpg
END:VEVENT
BEGIN:VEVENT
DTSTART;TZID=Europe/Vienna:20260111T100000
DTEND;TZID=Europe/Vienna:20260111T120000
DTSTAMP:20260423T003448
CREATED:20250115T101521Z
LAST-MODIFIED:20250115T101522Z
UID:10000358-1768125600-1768132800@horizon-ti.com
SUMMARY:Немски Език
DESCRIPTION:Това е курс\, специално адаптиран за българи. Всяка неделя от 10:00 часа.  Не е необходимо предварително записване!
URL:https://horizon-ti.com/event/%d0%bd%d0%b5%d0%bc%d1%81%d0%ba%d0%b8-%d0%b5%d0%b7%d0%b8%d0%ba-4-2/2026-01-11/
LOCATION:Виена\, Haslingergasse 16\, 1170\, Австрия
CATEGORIES:Езици
ATTACH;FMTTYPE=image/jpeg:https://horizon-ti.com/wp-content/uploads/2023/11/claudio-schwarz-TScGhJM716g-unsplash-scaled-e1699637998667.jpg
END:VEVENT
BEGIN:VEVENT
DTSTART;TZID=Europe/Vienna:20260118T100000
DTEND;TZID=Europe/Vienna:20260118T120000
DTSTAMP:20260423T003448
CREATED:20250115T101521Z
LAST-MODIFIED:20250115T101522Z
UID:10000359-1768730400-1768737600@horizon-ti.com
SUMMARY:Немски Език
DESCRIPTION:Това е курс\, специално адаптиран за българи. Всяка неделя от 10:00 часа.  Не е необходимо предварително записване!
URL:https://horizon-ti.com/event/%d0%bd%d0%b5%d0%bc%d1%81%d0%ba%d0%b8-%d0%b5%d0%b7%d0%b8%d0%ba-4-2/2026-01-18/
LOCATION:Виена\, Haslingergasse 16\, 1170\, Австрия
CATEGORIES:Езици
ATTACH;FMTTYPE=image/jpeg:https://horizon-ti.com/wp-content/uploads/2023/11/claudio-schwarz-TScGhJM716g-unsplash-scaled-e1699637998667.jpg
END:VEVENT
BEGIN:VEVENT
DTSTART;TZID=Europe/Vienna:20260125T100000
DTEND;TZID=Europe/Vienna:20260125T120000
DTSTAMP:20260423T003448
CREATED:20250115T101521Z
LAST-MODIFIED:20250115T101522Z
UID:10000360-1769335200-1769342400@horizon-ti.com
SUMMARY:Немски Език
DESCRIPTION:Това е курс\, специално адаптиран за българи. Всяка неделя от 10:00 часа.  Не е необходимо предварително записване!
URL:https://horizon-ti.com/event/%d0%bd%d0%b5%d0%bc%d1%81%d0%ba%d0%b8-%d0%b5%d0%b7%d0%b8%d0%ba-4-2/2026-01-25/
LOCATION:Виена\, Haslingergasse 16\, 1170\, Австрия
CATEGORIES:Езици
ATTACH;FMTTYPE=image/jpeg:https://horizon-ti.com/wp-content/uploads/2023/11/claudio-schwarz-TScGhJM716g-unsplash-scaled-e1699637998667.jpg
END:VEVENT
BEGIN:VEVENT
DTSTART;TZID=Europe/Vienna:20260201T100000
DTEND;TZID=Europe/Vienna:20260201T120000
DTSTAMP:20260423T003448
CREATED:20250115T101521Z
LAST-MODIFIED:20250115T101522Z
UID:10000361-1769940000-1769947200@horizon-ti.com
SUMMARY:Немски Език
DESCRIPTION:Това е курс\, специално адаптиран за българи. Всяка неделя от 10:00 часа.  Не е необходимо предварително записване!
URL:https://horizon-ti.com/event/%d0%bd%d0%b5%d0%bc%d1%81%d0%ba%d0%b8-%d0%b5%d0%b7%d0%b8%d0%ba-4-2/2026-02-01/
LOCATION:Виена\, Haslingergasse 16\, 1170\, Австрия
CATEGORIES:Езици
ATTACH;FMTTYPE=image/jpeg:https://horizon-ti.com/wp-content/uploads/2023/11/claudio-schwarz-TScGhJM716g-unsplash-scaled-e1699637998667.jpg
END:VEVENT
BEGIN:VEVENT
DTSTART;TZID=Europe/Vienna:20260208T100000
DTEND;TZID=Europe/Vienna:20260208T120000
DTSTAMP:20260423T003448
CREATED:20250115T101521Z
LAST-MODIFIED:20250115T101522Z
UID:10000362-1770544800-1770552000@horizon-ti.com
SUMMARY:Немски Език
DESCRIPTION:Това е курс\, специално адаптиран за българи. Всяка неделя от 10:00 часа.  Не е необходимо предварително записване!
URL:https://horizon-ti.com/event/%d0%bd%d0%b5%d0%bc%d1%81%d0%ba%d0%b8-%d0%b5%d0%b7%d0%b8%d0%ba-4-2/2026-02-08/
LOCATION:Виена\, Haslingergasse 16\, 1170\, Австрия
CATEGORIES:Езици
ATTACH;FMTTYPE=image/jpeg:https://horizon-ti.com/wp-content/uploads/2023/11/claudio-schwarz-TScGhJM716g-unsplash-scaled-e1699637998667.jpg
END:VEVENT
BEGIN:VEVENT
DTSTART;TZID=Europe/Vienna:20260215T100000
DTEND;TZID=Europe/Vienna:20260215T120000
DTSTAMP:20260423T003448
CREATED:20250115T101521Z
LAST-MODIFIED:20250115T101522Z
UID:10000363-1771149600-1771156800@horizon-ti.com
SUMMARY:Немски Език
DESCRIPTION:Това е курс\, специално адаптиран за българи. Всяка неделя от 10:00 часа.  Не е необходимо предварително записване!
URL:https://horizon-ti.com/event/%d0%bd%d0%b5%d0%bc%d1%81%d0%ba%d0%b8-%d0%b5%d0%b7%d0%b8%d0%ba-4-2/2026-02-15/
LOCATION:Виена\, Haslingergasse 16\, 1170\, Австрия
CATEGORIES:Езици
ATTACH;FMTTYPE=image/jpeg:https://horizon-ti.com/wp-content/uploads/2023/11/claudio-schwarz-TScGhJM716g-unsplash-scaled-e1699637998667.jpg
END:VEVENT
BEGIN:VEVENT
DTSTART;TZID=Europe/Vienna:20260222T100000
DTEND;TZID=Europe/Vienna:20260222T120000
DTSTAMP:20260423T003448
CREATED:20250115T101521Z
LAST-MODIFIED:20250115T101522Z
UID:10000364-1771754400-1771761600@horizon-ti.com
SUMMARY:Немски Език
DESCRIPTION:Това е курс\, специално адаптиран за българи. Всяка неделя от 10:00 часа.  Не е необходимо предварително записване!
URL:https://horizon-ti.com/event/%d0%bd%d0%b5%d0%bc%d1%81%d0%ba%d0%b8-%d0%b5%d0%b7%d0%b8%d0%ba-4-2/2026-02-22/
LOCATION:Виена\, Haslingergasse 16\, 1170\, Австрия
CATEGORIES:Езици
ATTACH;FMTTYPE=image/jpeg:https://horizon-ti.com/wp-content/uploads/2023/11/claudio-schwarz-TScGhJM716g-unsplash-scaled-e1699637998667.jpg
END:VEVENT
BEGIN:VEVENT
DTSTART;TZID=Europe/Vienna:20260301T100000
DTEND;TZID=Europe/Vienna:20260301T120000
DTSTAMP:20260423T003448
CREATED:20250115T101521Z
LAST-MODIFIED:20250115T101522Z
UID:10000365-1772359200-1772366400@horizon-ti.com
SUMMARY:Немски Език
DESCRIPTION:Това е курс\, специално адаптиран за българи. Всяка неделя от 10:00 часа.  Не е необходимо предварително записване!
URL:https://horizon-ti.com/event/%d0%bd%d0%b5%d0%bc%d1%81%d0%ba%d0%b8-%d0%b5%d0%b7%d0%b8%d0%ba-4-2/2026-03-01/
LOCATION:Виена\, Haslingergasse 16\, 1170\, Австрия
CATEGORIES:Езици
ATTACH;FMTTYPE=image/jpeg:https://horizon-ti.com/wp-content/uploads/2023/11/claudio-schwarz-TScGhJM716g-unsplash-scaled-e1699637998667.jpg
END:VEVENT
BEGIN:VEVENT
DTSTART;TZID=Europe/Vienna:20260308T100000
DTEND;TZID=Europe/Vienna:20260308T120000
DTSTAMP:20260423T003448
CREATED:20250115T101521Z
LAST-MODIFIED:20250115T101522Z
UID:10000366-1772964000-1772971200@horizon-ti.com
SUMMARY:Немски Език
DESCRIPTION:Това е курс\, специално адаптиран за българи. Всяка неделя от 10:00 часа.  Не е необходимо предварително записване!
URL:https://horizon-ti.com/event/%d0%bd%d0%b5%d0%bc%d1%81%d0%ba%d0%b8-%d0%b5%d0%b7%d0%b8%d0%ba-4-2/2026-03-08/
LOCATION:Виена\, Haslingergasse 16\, 1170\, Австрия
CATEGORIES:Езици
ATTACH;FMTTYPE=image/jpeg:https://horizon-ti.com/wp-content/uploads/2023/11/claudio-schwarz-TScGhJM716g-unsplash-scaled-e1699637998667.jpg
END:VEVENT
BEGIN:VEVENT
DTSTART;TZID=Europe/Vienna:20260315T100000
DTEND;TZID=Europe/Vienna:20260315T120000
DTSTAMP:20260423T003448
CREATED:20250115T101521Z
LAST-MODIFIED:20250115T101522Z
UID:10000367-1773568800-1773576000@horizon-ti.com
SUMMARY:Немски Език
DESCRIPTION:Това е курс\, специално адаптиран за българи. Всяка неделя от 10:00 часа.  Не е необходимо предварително записване!
URL:https://horizon-ti.com/event/%d0%bd%d0%b5%d0%bc%d1%81%d0%ba%d0%b8-%d0%b5%d0%b7%d0%b8%d0%ba-4-2/2026-03-15/
LOCATION:Виена\, Haslingergasse 16\, 1170\, Австрия
CATEGORIES:Езици
ATTACH;FMTTYPE=image/jpeg:https://horizon-ti.com/wp-content/uploads/2023/11/claudio-schwarz-TScGhJM716g-unsplash-scaled-e1699637998667.jpg
END:VEVENT
BEGIN:VEVENT
DTSTART;TZID=Europe/Vienna:20260322T100000
DTEND;TZID=Europe/Vienna:20260322T120000
DTSTAMP:20260423T003448
CREATED:20250115T101521Z
LAST-MODIFIED:20250115T101522Z
UID:10000368-1774173600-1774180800@horizon-ti.com
SUMMARY:Немски Език
DESCRIPTION:Това е курс\, специално адаптиран за българи. Всяка неделя от 10:00 часа.  Не е необходимо предварително записване!
URL:https://horizon-ti.com/event/%d0%bd%d0%b5%d0%bc%d1%81%d0%ba%d0%b8-%d0%b5%d0%b7%d0%b8%d0%ba-4-2/2026-03-22/
LOCATION:Виена\, Haslingergasse 16\, 1170\, Австрия
CATEGORIES:Езици
ATTACH;FMTTYPE=image/jpeg:https://horizon-ti.com/wp-content/uploads/2023/11/claudio-schwarz-TScGhJM716g-unsplash-scaled-e1699637998667.jpg
END:VEVENT
BEGIN:VEVENT
DTSTART;TZID=Europe/Vienna:20260329T100000
DTEND;TZID=Europe/Vienna:20260329T120000
DTSTAMP:20260423T003448
CREATED:20250115T101521Z
LAST-MODIFIED:20250115T101522Z
UID:10000369-1774778400-1774785600@horizon-ti.com
SUMMARY:Немски Език
DESCRIPTION:Това е курс\, специално адаптиран за българи. Всяка неделя от 10:00 часа.  Не е необходимо предварително записване!
URL:https://horizon-ti.com/event/%d0%bd%d0%b5%d0%bc%d1%81%d0%ba%d0%b8-%d0%b5%d0%b7%d0%b8%d0%ba-4-2/2026-03-29/
LOCATION:Виена\, Haslingergasse 16\, 1170\, Австрия
CATEGORIES:Езици
ATTACH;FMTTYPE=image/jpeg:https://horizon-ti.com/wp-content/uploads/2023/11/claudio-schwarz-TScGhJM716g-unsplash-scaled-e1699637998667.jpg
END:VEVENT
BEGIN:VEVENT
DTSTART;TZID=Europe/Vienna:20260405T100000
DTEND;TZID=Europe/Vienna:20260405T120000
DTSTAMP:20260423T003448
CREATED:20250115T101521Z
LAST-MODIFIED:20250115T101522Z
UID:10000370-1775383200-1775390400@horizon-ti.com
SUMMARY:Немски Език
DESCRIPTION:Това е курс\, специално адаптиран за българи. Всяка неделя от 10:00 часа.  Не е необходимо предварително записване!
URL:https://horizon-ti.com/event/%d0%bd%d0%b5%d0%bc%d1%81%d0%ba%d0%b8-%d0%b5%d0%b7%d0%b8%d0%ba-4-2/2026-04-05/
LOCATION:Виена\, Haslingergasse 16\, 1170\, Австрия
CATEGORIES:Езици
ATTACH;FMTTYPE=image/jpeg:https://horizon-ti.com/wp-content/uploads/2023/11/claudio-schwarz-TScGhJM716g-unsplash-scaled-e1699637998667.jpg
END:VEVENT
BEGIN:VEVENT
DTSTART;TZID=Europe/Vienna:20260412T100000
DTEND;TZID=Europe/Vienna:20260412T120000
DTSTAMP:20260423T003448
CREATED:20250115T101521Z
LAST-MODIFIED:20250115T101522Z
UID:10000371-1775988000-1775995200@horizon-ti.com
SUMMARY:Немски Език
DESCRIPTION:Това е курс\, специално адаптиран за българи. Всяка неделя от 10:00 часа.  Не е необходимо предварително записване!
URL:https://horizon-ti.com/event/%d0%bd%d0%b5%d0%bc%d1%81%d0%ba%d0%b8-%d0%b5%d0%b7%d0%b8%d0%ba-4-2/2026-04-12/
LOCATION:Виена\, Haslingergasse 16\, 1170\, Австрия
CATEGORIES:Езици
ATTACH;FMTTYPE=image/jpeg:https://horizon-ti.com/wp-content/uploads/2023/11/claudio-schwarz-TScGhJM716g-unsplash-scaled-e1699637998667.jpg
END:VEVENT
BEGIN:VEVENT
DTSTART;TZID=Europe/Vienna:20260419T100000
DTEND;TZID=Europe/Vienna:20260419T120000
DTSTAMP:20260423T003448
CREATED:20250115T101521Z
LAST-MODIFIED:20250115T101522Z
UID:10000372-1776592800-1776600000@horizon-ti.com
SUMMARY:Немски Език
DESCRIPTION:Това е курс\, специално адаптиран за българи. Всяка неделя от 10:00 часа.  Не е необходимо предварително записване!
URL:https://horizon-ti.com/event/%d0%bd%d0%b5%d0%bc%d1%81%d0%ba%d0%b8-%d0%b5%d0%b7%d0%b8%d0%ba-4-2/2026-04-19/
LOCATION:Виена\, Haslingergasse 16\, 1170\, Австрия
CATEGORIES:Езици
ATTACH;FMTTYPE=image/jpeg:https://horizon-ti.com/wp-content/uploads/2023/11/claudio-schwarz-TScGhJM716g-unsplash-scaled-e1699637998667.jpg
END:VEVENT
BEGIN:VEVENT
DTSTART;TZID=Europe/Vienna:20260426T100000
DTEND;TZID=Europe/Vienna:20260426T120000
DTSTAMP:20260423T003448
CREATED:20250115T101521Z
LAST-MODIFIED:20250115T101522Z
UID:10000373-1777197600-1777204800@horizon-ti.com
SUMMARY:Немски Език
DESCRIPTION:Това е курс\, специално адаптиран за българи. Всяка неделя от 10:00 часа.  Не е необходимо предварително записване!
URL:https://horizon-ti.com/event/%d0%bd%d0%b5%d0%bc%d1%81%d0%ba%d0%b8-%d0%b5%d0%b7%d0%b8%d0%ba-4-2/2026-04-26/
LOCATION:Виена\, Haslingergasse 16\, 1170\, Австрия
CATEGORIES:Езици
ATTACH;FMTTYPE=image/jpeg:https://horizon-ti.com/wp-content/uploads/2023/11/claudio-schwarz-TScGhJM716g-unsplash-scaled-e1699637998667.jpg
END:VEVENT
BEGIN:VEVENT
DTSTART;TZID=Europe/Vienna:20260503T100000
DTEND;TZID=Europe/Vienna:20260503T120000
DTSTAMP:20260423T003448
CREATED:20250115T101521Z
LAST-MODIFIED:20250115T101522Z
UID:10000374-1777802400-1777809600@horizon-ti.com
SUMMARY:Немски Език
DESCRIPTION:Това е курс\, специално адаптиран за българи. Всяка неделя от 10:00 часа.  Не е необходимо предварително записване!
URL:https://horizon-ti.com/event/%d0%bd%d0%b5%d0%bc%d1%81%d0%ba%d0%b8-%d0%b5%d0%b7%d0%b8%d0%ba-4-2/2026-05-03/
LOCATION:Виена\, Haslingergasse 16\, 1170\, Австрия
CATEGORIES:Езици
ATTACH;FMTTYPE=image/jpeg:https://horizon-ti.com/wp-content/uploads/2023/11/claudio-schwarz-TScGhJM716g-unsplash-scaled-e1699637998667.jpg
END:VEVENT
BEGIN:VEVENT
DTSTART;TZID=Europe/Vienna:20260510T100000
DTEND;TZID=Europe/Vienna:20260510T120000
DTSTAMP:20260423T003448
CREATED:20250115T101521Z
LAST-MODIFIED:20250115T101522Z
UID:10000375-1778407200-1778414400@horizon-ti.com
SUMMARY:Немски Език
DESCRIPTION:Това е курс\, специално адаптиран за българи. Всяка неделя от 10:00 часа.  Не е необходимо предварително записване!
URL:https://horizon-ti.com/event/%d0%bd%d0%b5%d0%bc%d1%81%d0%ba%d0%b8-%d0%b5%d0%b7%d0%b8%d0%ba-4-2/2026-05-10/
LOCATION:Виена\, Haslingergasse 16\, 1170\, Австрия
CATEGORIES:Езици
ATTACH;FMTTYPE=image/jpeg:https://horizon-ti.com/wp-content/uploads/2023/11/claudio-schwarz-TScGhJM716g-unsplash-scaled-e1699637998667.jpg
END:VEVENT
BEGIN:VEVENT
DTSTART;TZID=Europe/Vienna:20260517T100000
DTEND;TZID=Europe/Vienna:20260517T120000
DTSTAMP:20260423T003448
CREATED:20250115T101521Z
LAST-MODIFIED:20250115T101522Z
UID:10000376-1779012000-1779019200@horizon-ti.com
SUMMARY:Немски Език
DESCRIPTION:Това е курс\, специално адаптиран за българи. Всяка неделя от 10:00 часа.  Не е необходимо предварително записване!
URL:https://horizon-ti.com/event/%d0%bd%d0%b5%d0%bc%d1%81%d0%ba%d0%b8-%d0%b5%d0%b7%d0%b8%d0%ba-4-2/2026-05-17/
LOCATION:Виена\, Haslingergasse 16\, 1170\, Австрия
CATEGORIES:Езици
ATTACH;FMTTYPE=image/jpeg:https://horizon-ti.com/wp-content/uploads/2023/11/claudio-schwarz-TScGhJM716g-unsplash-scaled-e1699637998667.jpg
END:VEVENT
BEGIN:VEVENT
DTSTART;TZID=Europe/Vienna:20260524T100000
DTEND;TZID=Europe/Vienna:20260524T120000
DTSTAMP:20260423T003448
CREATED:20250115T101521Z
LAST-MODIFIED:20250115T101522Z
UID:10000377-1779616800-1779624000@horizon-ti.com
SUMMARY:Немски Език
DESCRIPTION:Това е курс\, специално адаптиран за българи. Всяка неделя от 10:00 часа.  Не е необходимо предварително записване!
URL:https://horizon-ti.com/event/%d0%bd%d0%b5%d0%bc%d1%81%d0%ba%d0%b8-%d0%b5%d0%b7%d0%b8%d0%ba-4-2/2026-05-24/
LOCATION:Виена\, Haslingergasse 16\, 1170\, Австрия
CATEGORIES:Езици
ATTACH;FMTTYPE=image/jpeg:https://horizon-ti.com/wp-content/uploads/2023/11/claudio-schwarz-TScGhJM716g-unsplash-scaled-e1699637998667.jpg
END:VEVENT
BEGIN:VEVENT
DTSTART;TZID=Europe/Vienna:20260531T100000
DTEND;TZID=Europe/Vienna:20260531T120000
DTSTAMP:20260423T003448
CREATED:20250115T101521Z
LAST-MODIFIED:20250115T101522Z
UID:10000378-1780221600-1780228800@horizon-ti.com
SUMMARY:Немски Език
DESCRIPTION:Това е курс\, специално адаптиран за българи. Всяка неделя от 10:00 часа.  Не е необходимо предварително записване!
URL:https://horizon-ti.com/event/%d0%bd%d0%b5%d0%bc%d1%81%d0%ba%d0%b8-%d0%b5%d0%b7%d0%b8%d0%ba-4-2/2026-05-31/
LOCATION:Виена\, Haslingergasse 16\, 1170\, Австрия
CATEGORIES:Езици
ATTACH;FMTTYPE=image/jpeg:https://horizon-ti.com/wp-content/uploads/2023/11/claudio-schwarz-TScGhJM716g-unsplash-scaled-e1699637998667.jpg
END:VEVENT
BEGIN:VEVENT
DTSTART;TZID=Europe/Vienna:20260607T100000
DTEND;TZID=Europe/Vienna:20260607T120000
DTSTAMP:20260423T003448
CREATED:20250115T101521Z
LAST-MODIFIED:20250115T101522Z
UID:10000379-1780826400-1780833600@horizon-ti.com
SUMMARY:Немски Език
DESCRIPTION:Това е курс\, специално адаптиран за българи. Всяка неделя от 10:00 часа.  Не е необходимо предварително записване!
URL:https://horizon-ti.com/event/%d0%bd%d0%b5%d0%bc%d1%81%d0%ba%d0%b8-%d0%b5%d0%b7%d0%b8%d0%ba-4-2/2026-06-07/
LOCATION:Виена\, Haslingergasse 16\, 1170\, Австрия
CATEGORIES:Езици
ATTACH;FMTTYPE=image/jpeg:https://horizon-ti.com/wp-content/uploads/2023/11/claudio-schwarz-TScGhJM716g-unsplash-scaled-e1699637998667.jpg
END:VEVENT
BEGIN:VEVENT
DTSTART;TZID=Europe/Vienna:20260614T100000
DTEND;TZID=Europe/Vienna:20260614T120000
DTSTAMP:20260423T003448
CREATED:20250115T101521Z
LAST-MODIFIED:20250115T101522Z
UID:10000380-1781431200-1781438400@horizon-ti.com
SUMMARY:Немски Език
DESCRIPTION:Това е курс\, специално адаптиран за българи. Всяка неделя от 10:00 часа.  Не е необходимо предварително записване!
URL:https://horizon-ti.com/event/%d0%bd%d0%b5%d0%bc%d1%81%d0%ba%d0%b8-%d0%b5%d0%b7%d0%b8%d0%ba-4-2/2026-06-14/
LOCATION:Виена\, Haslingergasse 16\, 1170\, Австрия
CATEGORIES:Езици
ATTACH;FMTTYPE=image/jpeg:https://horizon-ti.com/wp-content/uploads/2023/11/claudio-schwarz-TScGhJM716g-unsplash-scaled-e1699637998667.jpg
END:VEVENT
BEGIN:VEVENT
DTSTART;TZID=Europe/Vienna:20260621T100000
DTEND;TZID=Europe/Vienna:20260621T120000
DTSTAMP:20260423T003448
CREATED:20250115T101521Z
LAST-MODIFIED:20250115T101522Z
UID:10000381-1782036000-1782043200@horizon-ti.com
SUMMARY:Немски Език
DESCRIPTION:Това е курс\, специално адаптиран за българи. Всяка неделя от 10:00 часа.  Не е необходимо предварително записване!
URL:https://horizon-ti.com/event/%d0%bd%d0%b5%d0%bc%d1%81%d0%ba%d0%b8-%d0%b5%d0%b7%d0%b8%d0%ba-4-2/2026-06-21/
LOCATION:Виена\, Haslingergasse 16\, 1170\, Австрия
CATEGORIES:Езици
ATTACH;FMTTYPE=image/jpeg:https://horizon-ti.com/wp-content/uploads/2023/11/claudio-schwarz-TScGhJM716g-unsplash-scaled-e1699637998667.jpg
END:VEVENT
BEGIN:VEVENT
DTSTART;TZID=Europe/Vienna:20260628T100000
DTEND;TZID=Europe/Vienna:20260628T120000
DTSTAMP:20260423T003448
CREATED:20250115T101521Z
LAST-MODIFIED:20250115T101522Z
UID:10000382-1782640800-1782648000@horizon-ti.com
SUMMARY:Немски Език
DESCRIPTION:Това е курс\, специално адаптиран за българи. Всяка неделя от 10:00 часа.  Не е необходимо предварително записване!
URL:https://horizon-ti.com/event/%d0%bd%d0%b5%d0%bc%d1%81%d0%ba%d0%b8-%d0%b5%d0%b7%d0%b8%d0%ba-4-2/2026-06-28/
LOCATION:Виена\, Haslingergasse 16\, 1170\, Австрия
CATEGORIES:Езици
ATTACH;FMTTYPE=image/jpeg:https://horizon-ti.com/wp-content/uploads/2023/11/claudio-schwarz-TScGhJM716g-unsplash-scaled-e1699637998667.jpg
END:VEVENT
END:VCALENDAR