BEGIN:VCALENDAR
VERSION:2.0
PRODID:-//Хоризонти - ECPv6.2.8.2//NONSGML v1.0//EN
CALSCALE:GREGORIAN
METHOD:PUBLISH
X-ORIGINAL-URL:https://horizon-ti.com
X-WR-CALDESC:Events for Хоризонти
REFRESH-INTERVAL;VALUE=DURATION:PT1H
X-Robots-Tag:noindex
X-PUBLISHED-TTL:PT1H
BEGIN:VTIMEZONE
TZID:Europe/Vienna
BEGIN:DAYLIGHT
TZOFFSETFROM:+0100
TZOFFSETTO:+0200
TZNAME:CEST
DTSTART:20280326T010000
END:DAYLIGHT
BEGIN:STANDARD
TZOFFSETFROM:+0200
TZOFFSETTO:+0100
TZNAME:CET
DTSTART:20281029T010000
END:STANDARD
BEGIN:DAYLIGHT
TZOFFSETFROM:+0100
TZOFFSETTO:+0200
TZNAME:CEST
DTSTART:20290325T010000
END:DAYLIGHT
BEGIN:STANDARD
TZOFFSETFROM:+0200
TZOFFSETTO:+0100
TZNAME:CET
DTSTART:20291028T010000
END:STANDARD
END:VTIMEZONE
BEGIN:VEVENT
DTSTART;TZID=Europe/Vienna:20280820T100000
DTEND;TZID=Europe/Vienna:20280820T120000
DTSTAMP:20260422T235920
CREATED:20250115T101521Z
LAST-MODIFIED:20250115T101522Z
UID:10000494-1850378400-1850385600@horizon-ti.com
SUMMARY:Немски Език
DESCRIPTION:Това е курс\, специално адаптиран за българи. Всяка неделя от 10:00 часа.  Не е необходимо предварително записване!
URL:https://horizon-ti.com/event/%d0%bd%d0%b5%d0%bc%d1%81%d0%ba%d0%b8-%d0%b5%d0%b7%d0%b8%d0%ba-4-2/2028-08-20/
LOCATION:Виена\, Haslingergasse 16\, 1170\, Австрия
CATEGORIES:Езици
ATTACH;FMTTYPE=image/jpeg:https://horizon-ti.com/wp-content/uploads/2023/11/claudio-schwarz-TScGhJM716g-unsplash-scaled-e1699637998667.jpg
END:VEVENT
BEGIN:VEVENT
DTSTART;TZID=Europe/Vienna:20280827T100000
DTEND;TZID=Europe/Vienna:20280827T120000
DTSTAMP:20260422T235920
CREATED:20250115T101521Z
LAST-MODIFIED:20250115T101522Z
UID:10000495-1850983200-1850990400@horizon-ti.com
SUMMARY:Немски Език
DESCRIPTION:Това е курс\, специално адаптиран за българи. Всяка неделя от 10:00 часа.  Не е необходимо предварително записване!
URL:https://horizon-ti.com/event/%d0%bd%d0%b5%d0%bc%d1%81%d0%ba%d0%b8-%d0%b5%d0%b7%d0%b8%d0%ba-4-2/2028-08-27/
LOCATION:Виена\, Haslingergasse 16\, 1170\, Австрия
CATEGORIES:Езици
ATTACH;FMTTYPE=image/jpeg:https://horizon-ti.com/wp-content/uploads/2023/11/claudio-schwarz-TScGhJM716g-unsplash-scaled-e1699637998667.jpg
END:VEVENT
BEGIN:VEVENT
DTSTART;TZID=Europe/Vienna:20280903T100000
DTEND;TZID=Europe/Vienna:20280903T120000
DTSTAMP:20260422T235920
CREATED:20250115T101521Z
LAST-MODIFIED:20250115T101522Z
UID:10000496-1851588000-1851595200@horizon-ti.com
SUMMARY:Немски Език
DESCRIPTION:Това е курс\, специално адаптиран за българи. Всяка неделя от 10:00 часа.  Не е необходимо предварително записване!
URL:https://horizon-ti.com/event/%d0%bd%d0%b5%d0%bc%d1%81%d0%ba%d0%b8-%d0%b5%d0%b7%d0%b8%d0%ba-4-2/2028-09-03/
LOCATION:Виена\, Haslingergasse 16\, 1170\, Австрия
CATEGORIES:Езици
ATTACH;FMTTYPE=image/jpeg:https://horizon-ti.com/wp-content/uploads/2023/11/claudio-schwarz-TScGhJM716g-unsplash-scaled-e1699637998667.jpg
END:VEVENT
BEGIN:VEVENT
DTSTART;TZID=Europe/Vienna:20280910T100000
DTEND;TZID=Europe/Vienna:20280910T120000
DTSTAMP:20260422T235920
CREATED:20250115T101521Z
LAST-MODIFIED:20250115T101522Z
UID:10000497-1852192800-1852200000@horizon-ti.com
SUMMARY:Немски Език
DESCRIPTION:Това е курс\, специално адаптиран за българи. Всяка неделя от 10:00 часа.  Не е необходимо предварително записване!
URL:https://horizon-ti.com/event/%d0%bd%d0%b5%d0%bc%d1%81%d0%ba%d0%b8-%d0%b5%d0%b7%d0%b8%d0%ba-4-2/2028-09-10/
LOCATION:Виена\, Haslingergasse 16\, 1170\, Австрия
CATEGORIES:Езици
ATTACH;FMTTYPE=image/jpeg:https://horizon-ti.com/wp-content/uploads/2023/11/claudio-schwarz-TScGhJM716g-unsplash-scaled-e1699637998667.jpg
END:VEVENT
BEGIN:VEVENT
DTSTART;TZID=Europe/Vienna:20280917T100000
DTEND;TZID=Europe/Vienna:20280917T120000
DTSTAMP:20260422T235920
CREATED:20250115T101521Z
LAST-MODIFIED:20250115T101522Z
UID:10000498-1852797600-1852804800@horizon-ti.com
SUMMARY:Немски Език
DESCRIPTION:Това е курс\, специално адаптиран за българи. Всяка неделя от 10:00 часа.  Не е необходимо предварително записване!
URL:https://horizon-ti.com/event/%d0%bd%d0%b5%d0%bc%d1%81%d0%ba%d0%b8-%d0%b5%d0%b7%d0%b8%d0%ba-4-2/2028-09-17/
LOCATION:Виена\, Haslingergasse 16\, 1170\, Австрия
CATEGORIES:Езици
ATTACH;FMTTYPE=image/jpeg:https://horizon-ti.com/wp-content/uploads/2023/11/claudio-schwarz-TScGhJM716g-unsplash-scaled-e1699637998667.jpg
END:VEVENT
BEGIN:VEVENT
DTSTART;TZID=Europe/Vienna:20280924T100000
DTEND;TZID=Europe/Vienna:20280924T120000
DTSTAMP:20260422T235920
CREATED:20250115T101521Z
LAST-MODIFIED:20250115T101522Z
UID:10000499-1853402400-1853409600@horizon-ti.com
SUMMARY:Немски Език
DESCRIPTION:Това е курс\, специално адаптиран за българи. Всяка неделя от 10:00 часа.  Не е необходимо предварително записване!
URL:https://horizon-ti.com/event/%d0%bd%d0%b5%d0%bc%d1%81%d0%ba%d0%b8-%d0%b5%d0%b7%d0%b8%d0%ba-4-2/2028-09-24/
LOCATION:Виена\, Haslingergasse 16\, 1170\, Австрия
CATEGORIES:Езици
ATTACH;FMTTYPE=image/jpeg:https://horizon-ti.com/wp-content/uploads/2023/11/claudio-schwarz-TScGhJM716g-unsplash-scaled-e1699637998667.jpg
END:VEVENT
BEGIN:VEVENT
DTSTART;TZID=Europe/Vienna:20281001T100000
DTEND;TZID=Europe/Vienna:20281001T120000
DTSTAMP:20260422T235920
CREATED:20250115T101521Z
LAST-MODIFIED:20250115T101522Z
UID:10000500-1854007200-1854014400@horizon-ti.com
SUMMARY:Немски Език
DESCRIPTION:Това е курс\, специално адаптиран за българи. Всяка неделя от 10:00 часа.  Не е необходимо предварително записване!
URL:https://horizon-ti.com/event/%d0%bd%d0%b5%d0%bc%d1%81%d0%ba%d0%b8-%d0%b5%d0%b7%d0%b8%d0%ba-4-2/2028-10-01/
LOCATION:Виена\, Haslingergasse 16\, 1170\, Австрия
CATEGORIES:Езици
ATTACH;FMTTYPE=image/jpeg:https://horizon-ti.com/wp-content/uploads/2023/11/claudio-schwarz-TScGhJM716g-unsplash-scaled-e1699637998667.jpg
END:VEVENT
BEGIN:VEVENT
DTSTART;TZID=Europe/Vienna:20281008T100000
DTEND;TZID=Europe/Vienna:20281008T120000
DTSTAMP:20260422T235920
CREATED:20250115T101521Z
LAST-MODIFIED:20250115T101522Z
UID:10000501-1854612000-1854619200@horizon-ti.com
SUMMARY:Немски Език
DESCRIPTION:Това е курс\, специално адаптиран за българи. Всяка неделя от 10:00 часа.  Не е необходимо предварително записване!
URL:https://horizon-ti.com/event/%d0%bd%d0%b5%d0%bc%d1%81%d0%ba%d0%b8-%d0%b5%d0%b7%d0%b8%d0%ba-4-2/2028-10-08/
LOCATION:Виена\, Haslingergasse 16\, 1170\, Австрия
CATEGORIES:Езици
ATTACH;FMTTYPE=image/jpeg:https://horizon-ti.com/wp-content/uploads/2023/11/claudio-schwarz-TScGhJM716g-unsplash-scaled-e1699637998667.jpg
END:VEVENT
BEGIN:VEVENT
DTSTART;TZID=Europe/Vienna:20281015T100000
DTEND;TZID=Europe/Vienna:20281015T120000
DTSTAMP:20260422T235920
CREATED:20250115T101521Z
LAST-MODIFIED:20250115T101522Z
UID:10000502-1855216800-1855224000@horizon-ti.com
SUMMARY:Немски Език
DESCRIPTION:Това е курс\, специално адаптиран за българи. Всяка неделя от 10:00 часа.  Не е необходимо предварително записване!
URL:https://horizon-ti.com/event/%d0%bd%d0%b5%d0%bc%d1%81%d0%ba%d0%b8-%d0%b5%d0%b7%d0%b8%d0%ba-4-2/2028-10-15/
LOCATION:Виена\, Haslingergasse 16\, 1170\, Австрия
CATEGORIES:Езици
ATTACH;FMTTYPE=image/jpeg:https://horizon-ti.com/wp-content/uploads/2023/11/claudio-schwarz-TScGhJM716g-unsplash-scaled-e1699637998667.jpg
END:VEVENT
BEGIN:VEVENT
DTSTART;TZID=Europe/Vienna:20281022T100000
DTEND;TZID=Europe/Vienna:20281022T120000
DTSTAMP:20260422T235920
CREATED:20250115T101521Z
LAST-MODIFIED:20250115T101522Z
UID:10000503-1855821600-1855828800@horizon-ti.com
SUMMARY:Немски Език
DESCRIPTION:Това е курс\, специално адаптиран за българи. Всяка неделя от 10:00 часа.  Не е необходимо предварително записване!
URL:https://horizon-ti.com/event/%d0%bd%d0%b5%d0%bc%d1%81%d0%ba%d0%b8-%d0%b5%d0%b7%d0%b8%d0%ba-4-2/2028-10-22/
LOCATION:Виена\, Haslingergasse 16\, 1170\, Австрия
CATEGORIES:Езици
ATTACH;FMTTYPE=image/jpeg:https://horizon-ti.com/wp-content/uploads/2023/11/claudio-schwarz-TScGhJM716g-unsplash-scaled-e1699637998667.jpg
END:VEVENT
BEGIN:VEVENT
DTSTART;TZID=Europe/Vienna:20281029T100000
DTEND;TZID=Europe/Vienna:20281029T120000
DTSTAMP:20260422T235920
CREATED:20250115T101521Z
LAST-MODIFIED:20250115T101522Z
UID:10000504-1856426400-1856433600@horizon-ti.com
SUMMARY:Немски Език
DESCRIPTION:Това е курс\, специално адаптиран за българи. Всяка неделя от 10:00 часа.  Не е необходимо предварително записване!
URL:https://horizon-ti.com/event/%d0%bd%d0%b5%d0%bc%d1%81%d0%ba%d0%b8-%d0%b5%d0%b7%d0%b8%d0%ba-4-2/2028-10-29/
LOCATION:Виена\, Haslingergasse 16\, 1170\, Австрия
CATEGORIES:Езици
ATTACH;FMTTYPE=image/jpeg:https://horizon-ti.com/wp-content/uploads/2023/11/claudio-schwarz-TScGhJM716g-unsplash-scaled-e1699637998667.jpg
END:VEVENT
BEGIN:VEVENT
DTSTART;TZID=Europe/Vienna:20281105T100000
DTEND;TZID=Europe/Vienna:20281105T120000
DTSTAMP:20260422T235920
CREATED:20250115T101521Z
LAST-MODIFIED:20250115T101522Z
UID:10000505-1857031200-1857038400@horizon-ti.com
SUMMARY:Немски Език
DESCRIPTION:Това е курс\, специално адаптиран за българи. Всяка неделя от 10:00 часа.  Не е необходимо предварително записване!
URL:https://horizon-ti.com/event/%d0%bd%d0%b5%d0%bc%d1%81%d0%ba%d0%b8-%d0%b5%d0%b7%d0%b8%d0%ba-4-2/2028-11-05/
LOCATION:Виена\, Haslingergasse 16\, 1170\, Австрия
CATEGORIES:Езици
ATTACH;FMTTYPE=image/jpeg:https://horizon-ti.com/wp-content/uploads/2023/11/claudio-schwarz-TScGhJM716g-unsplash-scaled-e1699637998667.jpg
END:VEVENT
BEGIN:VEVENT
DTSTART;TZID=Europe/Vienna:20281112T100000
DTEND;TZID=Europe/Vienna:20281112T120000
DTSTAMP:20260422T235920
CREATED:20250115T101521Z
LAST-MODIFIED:20250115T101522Z
UID:10000506-1857636000-1857643200@horizon-ti.com
SUMMARY:Немски Език
DESCRIPTION:Това е курс\, специално адаптиран за българи. Всяка неделя от 10:00 часа.  Не е необходимо предварително записване!
URL:https://horizon-ti.com/event/%d0%bd%d0%b5%d0%bc%d1%81%d0%ba%d0%b8-%d0%b5%d0%b7%d0%b8%d0%ba-4-2/2028-11-12/
LOCATION:Виена\, Haslingergasse 16\, 1170\, Австрия
CATEGORIES:Езици
ATTACH;FMTTYPE=image/jpeg:https://horizon-ti.com/wp-content/uploads/2023/11/claudio-schwarz-TScGhJM716g-unsplash-scaled-e1699637998667.jpg
END:VEVENT
BEGIN:VEVENT
DTSTART;TZID=Europe/Vienna:20281119T100000
DTEND;TZID=Europe/Vienna:20281119T120000
DTSTAMP:20260422T235920
CREATED:20250115T101521Z
LAST-MODIFIED:20250115T101522Z
UID:10000507-1858240800-1858248000@horizon-ti.com
SUMMARY:Немски Език
DESCRIPTION:Това е курс\, специално адаптиран за българи. Всяка неделя от 10:00 часа.  Не е необходимо предварително записване!
URL:https://horizon-ti.com/event/%d0%bd%d0%b5%d0%bc%d1%81%d0%ba%d0%b8-%d0%b5%d0%b7%d0%b8%d0%ba-4-2/2028-11-19/
LOCATION:Виена\, Haslingergasse 16\, 1170\, Австрия
CATEGORIES:Езици
ATTACH;FMTTYPE=image/jpeg:https://horizon-ti.com/wp-content/uploads/2023/11/claudio-schwarz-TScGhJM716g-unsplash-scaled-e1699637998667.jpg
END:VEVENT
BEGIN:VEVENT
DTSTART;TZID=Europe/Vienna:20281126T100000
DTEND;TZID=Europe/Vienna:20281126T120000
DTSTAMP:20260422T235920
CREATED:20250115T101521Z
LAST-MODIFIED:20250115T101522Z
UID:10000508-1858845600-1858852800@horizon-ti.com
SUMMARY:Немски Език
DESCRIPTION:Това е курс\, специално адаптиран за българи. Всяка неделя от 10:00 часа.  Не е необходимо предварително записване!
URL:https://horizon-ti.com/event/%d0%bd%d0%b5%d0%bc%d1%81%d0%ba%d0%b8-%d0%b5%d0%b7%d0%b8%d0%ba-4-2/2028-11-26/
LOCATION:Виена\, Haslingergasse 16\, 1170\, Австрия
CATEGORIES:Езици
ATTACH;FMTTYPE=image/jpeg:https://horizon-ti.com/wp-content/uploads/2023/11/claudio-schwarz-TScGhJM716g-unsplash-scaled-e1699637998667.jpg
END:VEVENT
BEGIN:VEVENT
DTSTART;TZID=Europe/Vienna:20281203T100000
DTEND;TZID=Europe/Vienna:20281203T120000
DTSTAMP:20260422T235920
CREATED:20250115T101521Z
LAST-MODIFIED:20250115T101522Z
UID:10000509-1859450400-1859457600@horizon-ti.com
SUMMARY:Немски Език
DESCRIPTION:Това е курс\, специално адаптиран за българи. Всяка неделя от 10:00 часа.  Не е необходимо предварително записване!
URL:https://horizon-ti.com/event/%d0%bd%d0%b5%d0%bc%d1%81%d0%ba%d0%b8-%d0%b5%d0%b7%d0%b8%d0%ba-4-2/2028-12-03/
LOCATION:Виена\, Haslingergasse 16\, 1170\, Австрия
CATEGORIES:Езици
ATTACH;FMTTYPE=image/jpeg:https://horizon-ti.com/wp-content/uploads/2023/11/claudio-schwarz-TScGhJM716g-unsplash-scaled-e1699637998667.jpg
END:VEVENT
BEGIN:VEVENT
DTSTART;TZID=Europe/Vienna:20281210T100000
DTEND;TZID=Europe/Vienna:20281210T120000
DTSTAMP:20260422T235920
CREATED:20250115T101521Z
LAST-MODIFIED:20250115T101522Z
UID:10000510-1860055200-1860062400@horizon-ti.com
SUMMARY:Немски Език
DESCRIPTION:Това е курс\, специално адаптиран за българи. Всяка неделя от 10:00 часа.  Не е необходимо предварително записване!
URL:https://horizon-ti.com/event/%d0%bd%d0%b5%d0%bc%d1%81%d0%ba%d0%b8-%d0%b5%d0%b7%d0%b8%d0%ba-4-2/2028-12-10/
LOCATION:Виена\, Haslingergasse 16\, 1170\, Австрия
CATEGORIES:Езици
ATTACH;FMTTYPE=image/jpeg:https://horizon-ti.com/wp-content/uploads/2023/11/claudio-schwarz-TScGhJM716g-unsplash-scaled-e1699637998667.jpg
END:VEVENT
BEGIN:VEVENT
DTSTART;TZID=Europe/Vienna:20281217T100000
DTEND;TZID=Europe/Vienna:20281217T120000
DTSTAMP:20260422T235920
CREATED:20250115T101521Z
LAST-MODIFIED:20250115T101522Z
UID:10000511-1860660000-1860667200@horizon-ti.com
SUMMARY:Немски Език
DESCRIPTION:Това е курс\, специално адаптиран за българи. Всяка неделя от 10:00 часа.  Не е необходимо предварително записване!
URL:https://horizon-ti.com/event/%d0%bd%d0%b5%d0%bc%d1%81%d0%ba%d0%b8-%d0%b5%d0%b7%d0%b8%d0%ba-4-2/2028-12-17/
LOCATION:Виена\, Haslingergasse 16\, 1170\, Австрия
CATEGORIES:Езици
ATTACH;FMTTYPE=image/jpeg:https://horizon-ti.com/wp-content/uploads/2023/11/claudio-schwarz-TScGhJM716g-unsplash-scaled-e1699637998667.jpg
END:VEVENT
BEGIN:VEVENT
DTSTART;TZID=Europe/Vienna:20281224T100000
DTEND;TZID=Europe/Vienna:20281224T120000
DTSTAMP:20260422T235920
CREATED:20250115T101521Z
LAST-MODIFIED:20250115T101522Z
UID:10000512-1861264800-1861272000@horizon-ti.com
SUMMARY:Немски Език
DESCRIPTION:Това е курс\, специално адаптиран за българи. Всяка неделя от 10:00 часа.  Не е необходимо предварително записване!
URL:https://horizon-ti.com/event/%d0%bd%d0%b5%d0%bc%d1%81%d0%ba%d0%b8-%d0%b5%d0%b7%d0%b8%d0%ba-4-2/2028-12-24/
LOCATION:Виена\, Haslingergasse 16\, 1170\, Австрия
CATEGORIES:Езици
ATTACH;FMTTYPE=image/jpeg:https://horizon-ti.com/wp-content/uploads/2023/11/claudio-schwarz-TScGhJM716g-unsplash-scaled-e1699637998667.jpg
END:VEVENT
BEGIN:VEVENT
DTSTART;TZID=Europe/Vienna:20281231T100000
DTEND;TZID=Europe/Vienna:20281231T120000
DTSTAMP:20260422T235920
CREATED:20250115T101521Z
LAST-MODIFIED:20250115T101522Z
UID:10000513-1861869600-1861876800@horizon-ti.com
SUMMARY:Немски Език
DESCRIPTION:Това е курс\, специално адаптиран за българи. Всяка неделя от 10:00 часа.  Не е необходимо предварително записване!
URL:https://horizon-ti.com/event/%d0%bd%d0%b5%d0%bc%d1%81%d0%ba%d0%b8-%d0%b5%d0%b7%d0%b8%d0%ba-4-2/2028-12-31/
LOCATION:Виена\, Haslingergasse 16\, 1170\, Австрия
CATEGORIES:Езици
ATTACH;FMTTYPE=image/jpeg:https://horizon-ti.com/wp-content/uploads/2023/11/claudio-schwarz-TScGhJM716g-unsplash-scaled-e1699637998667.jpg
END:VEVENT
BEGIN:VEVENT
DTSTART;TZID=Europe/Vienna:20290107T100000
DTEND;TZID=Europe/Vienna:20290107T120000
DTSTAMP:20260422T235920
CREATED:20250115T101521Z
LAST-MODIFIED:20250115T101522Z
UID:10000514-1862474400-1862481600@horizon-ti.com
SUMMARY:Немски Език
DESCRIPTION:Това е курс\, специално адаптиран за българи. Всяка неделя от 10:00 часа.  Не е необходимо предварително записване!
URL:https://horizon-ti.com/event/%d0%bd%d0%b5%d0%bc%d1%81%d0%ba%d0%b8-%d0%b5%d0%b7%d0%b8%d0%ba-4-2/2029-01-07/
LOCATION:Виена\, Haslingergasse 16\, 1170\, Австрия
CATEGORIES:Езици
ATTACH;FMTTYPE=image/jpeg:https://horizon-ti.com/wp-content/uploads/2023/11/claudio-schwarz-TScGhJM716g-unsplash-scaled-e1699637998667.jpg
END:VEVENT
BEGIN:VEVENT
DTSTART;TZID=Europe/Vienna:20290114T100000
DTEND;TZID=Europe/Vienna:20290114T120000
DTSTAMP:20260422T235920
CREATED:20250115T101521Z
LAST-MODIFIED:20250115T101522Z
UID:10000515-1863079200-1863086400@horizon-ti.com
SUMMARY:Немски Език
DESCRIPTION:Това е курс\, специално адаптиран за българи. Всяка неделя от 10:00 часа.  Не е необходимо предварително записване!
URL:https://horizon-ti.com/event/%d0%bd%d0%b5%d0%bc%d1%81%d0%ba%d0%b8-%d0%b5%d0%b7%d0%b8%d0%ba-4-2/2029-01-14/
LOCATION:Виена\, Haslingergasse 16\, 1170\, Австрия
CATEGORIES:Езици
ATTACH;FMTTYPE=image/jpeg:https://horizon-ti.com/wp-content/uploads/2023/11/claudio-schwarz-TScGhJM716g-unsplash-scaled-e1699637998667.jpg
END:VEVENT
BEGIN:VEVENT
DTSTART;TZID=Europe/Vienna:20290121T100000
DTEND;TZID=Europe/Vienna:20290121T120000
DTSTAMP:20260422T235920
CREATED:20250115T101521Z
LAST-MODIFIED:20250115T101522Z
UID:10000516-1863684000-1863691200@horizon-ti.com
SUMMARY:Немски Език
DESCRIPTION:Това е курс\, специално адаптиран за българи. Всяка неделя от 10:00 часа.  Не е необходимо предварително записване!
URL:https://horizon-ti.com/event/%d0%bd%d0%b5%d0%bc%d1%81%d0%ba%d0%b8-%d0%b5%d0%b7%d0%b8%d0%ba-4-2/2029-01-21/
LOCATION:Виена\, Haslingergasse 16\, 1170\, Австрия
CATEGORIES:Езици
ATTACH;FMTTYPE=image/jpeg:https://horizon-ti.com/wp-content/uploads/2023/11/claudio-schwarz-TScGhJM716g-unsplash-scaled-e1699637998667.jpg
END:VEVENT
BEGIN:VEVENT
DTSTART;TZID=Europe/Vienna:20290128T100000
DTEND;TZID=Europe/Vienna:20290128T120000
DTSTAMP:20260422T235920
CREATED:20250115T101521Z
LAST-MODIFIED:20250115T101522Z
UID:10000517-1864288800-1864296000@horizon-ti.com
SUMMARY:Немски Език
DESCRIPTION:Това е курс\, специално адаптиран за българи. Всяка неделя от 10:00 часа.  Не е необходимо предварително записване!
URL:https://horizon-ti.com/event/%d0%bd%d0%b5%d0%bc%d1%81%d0%ba%d0%b8-%d0%b5%d0%b7%d0%b8%d0%ba-4-2/2029-01-28/
LOCATION:Виена\, Haslingergasse 16\, 1170\, Австрия
CATEGORIES:Езици
ATTACH;FMTTYPE=image/jpeg:https://horizon-ti.com/wp-content/uploads/2023/11/claudio-schwarz-TScGhJM716g-unsplash-scaled-e1699637998667.jpg
END:VEVENT
BEGIN:VEVENT
DTSTART;TZID=Europe/Vienna:20290204T100000
DTEND;TZID=Europe/Vienna:20290204T120000
DTSTAMP:20260422T235920
CREATED:20250115T101521Z
LAST-MODIFIED:20250115T101522Z
UID:10000518-1864893600-1864900800@horizon-ti.com
SUMMARY:Немски Език
DESCRIPTION:Това е курс\, специално адаптиран за българи. Всяка неделя от 10:00 часа.  Не е необходимо предварително записване!
URL:https://horizon-ti.com/event/%d0%bd%d0%b5%d0%bc%d1%81%d0%ba%d0%b8-%d0%b5%d0%b7%d0%b8%d0%ba-4-2/2029-02-04/
LOCATION:Виена\, Haslingergasse 16\, 1170\, Австрия
CATEGORIES:Езици
ATTACH;FMTTYPE=image/jpeg:https://horizon-ti.com/wp-content/uploads/2023/11/claudio-schwarz-TScGhJM716g-unsplash-scaled-e1699637998667.jpg
END:VEVENT
BEGIN:VEVENT
DTSTART;TZID=Europe/Vienna:20290211T100000
DTEND;TZID=Europe/Vienna:20290211T120000
DTSTAMP:20260422T235920
CREATED:20250115T101521Z
LAST-MODIFIED:20250115T101522Z
UID:10000519-1865498400-1865505600@horizon-ti.com
SUMMARY:Немски Език
DESCRIPTION:Това е курс\, специално адаптиран за българи. Всяка неделя от 10:00 часа.  Не е необходимо предварително записване!
URL:https://horizon-ti.com/event/%d0%bd%d0%b5%d0%bc%d1%81%d0%ba%d0%b8-%d0%b5%d0%b7%d0%b8%d0%ba-4-2/2029-02-11/
LOCATION:Виена\, Haslingergasse 16\, 1170\, Австрия
CATEGORIES:Езици
ATTACH;FMTTYPE=image/jpeg:https://horizon-ti.com/wp-content/uploads/2023/11/claudio-schwarz-TScGhJM716g-unsplash-scaled-e1699637998667.jpg
END:VEVENT
BEGIN:VEVENT
DTSTART;TZID=Europe/Vienna:20290218T100000
DTEND;TZID=Europe/Vienna:20290218T120000
DTSTAMP:20260422T235920
CREATED:20250115T101521Z
LAST-MODIFIED:20250115T101522Z
UID:10000520-1866103200-1866110400@horizon-ti.com
SUMMARY:Немски Език
DESCRIPTION:Това е курс\, специално адаптиран за българи. Всяка неделя от 10:00 часа.  Не е необходимо предварително записване!
URL:https://horizon-ti.com/event/%d0%bd%d0%b5%d0%bc%d1%81%d0%ba%d0%b8-%d0%b5%d0%b7%d0%b8%d0%ba-4-2/2029-02-18/
LOCATION:Виена\, Haslingergasse 16\, 1170\, Австрия
CATEGORIES:Езици
ATTACH;FMTTYPE=image/jpeg:https://horizon-ti.com/wp-content/uploads/2023/11/claudio-schwarz-TScGhJM716g-unsplash-scaled-e1699637998667.jpg
END:VEVENT
BEGIN:VEVENT
DTSTART;TZID=Europe/Vienna:20290225T100000
DTEND;TZID=Europe/Vienna:20290225T120000
DTSTAMP:20260422T235920
CREATED:20250115T101521Z
LAST-MODIFIED:20250115T101522Z
UID:10000521-1866708000-1866715200@horizon-ti.com
SUMMARY:Немски Език
DESCRIPTION:Това е курс\, специално адаптиран за българи. Всяка неделя от 10:00 часа.  Не е необходимо предварително записване!
URL:https://horizon-ti.com/event/%d0%bd%d0%b5%d0%bc%d1%81%d0%ba%d0%b8-%d0%b5%d0%b7%d0%b8%d0%ba-4-2/2029-02-25/
LOCATION:Виена\, Haslingergasse 16\, 1170\, Австрия
CATEGORIES:Езици
ATTACH;FMTTYPE=image/jpeg:https://horizon-ti.com/wp-content/uploads/2023/11/claudio-schwarz-TScGhJM716g-unsplash-scaled-e1699637998667.jpg
END:VEVENT
BEGIN:VEVENT
DTSTART;TZID=Europe/Vienna:20290304T100000
DTEND;TZID=Europe/Vienna:20290304T120000
DTSTAMP:20260422T235920
CREATED:20250115T101521Z
LAST-MODIFIED:20250115T101522Z
UID:10000522-1867312800-1867320000@horizon-ti.com
SUMMARY:Немски Език
DESCRIPTION:Това е курс\, специално адаптиран за българи. Всяка неделя от 10:00 часа.  Не е необходимо предварително записване!
URL:https://horizon-ti.com/event/%d0%bd%d0%b5%d0%bc%d1%81%d0%ba%d0%b8-%d0%b5%d0%b7%d0%b8%d0%ba-4-2/2029-03-04/
LOCATION:Виена\, Haslingergasse 16\, 1170\, Австрия
CATEGORIES:Езици
ATTACH;FMTTYPE=image/jpeg:https://horizon-ti.com/wp-content/uploads/2023/11/claudio-schwarz-TScGhJM716g-unsplash-scaled-e1699637998667.jpg
END:VEVENT
BEGIN:VEVENT
DTSTART;TZID=Europe/Vienna:20290311T100000
DTEND;TZID=Europe/Vienna:20290311T120000
DTSTAMP:20260422T235920
CREATED:20250115T101521Z
LAST-MODIFIED:20250115T101522Z
UID:10000523-1867917600-1867924800@horizon-ti.com
SUMMARY:Немски Език
DESCRIPTION:Това е курс\, специално адаптиран за българи. Всяка неделя от 10:00 часа.  Не е необходимо предварително записване!
URL:https://horizon-ti.com/event/%d0%bd%d0%b5%d0%bc%d1%81%d0%ba%d0%b8-%d0%b5%d0%b7%d0%b8%d0%ba-4-2/2029-03-11/
LOCATION:Виена\, Haslingergasse 16\, 1170\, Австрия
CATEGORIES:Езици
ATTACH;FMTTYPE=image/jpeg:https://horizon-ti.com/wp-content/uploads/2023/11/claudio-schwarz-TScGhJM716g-unsplash-scaled-e1699637998667.jpg
END:VEVENT
END:VCALENDAR