BEGIN:VCALENDAR
VERSION:2.0
PRODID:-//Хоризонти - ECPv6.2.8.2//NONSGML v1.0//EN
CALSCALE:GREGORIAN
METHOD:PUBLISH
X-WR-CALNAME:Хоризонти
X-ORIGINAL-URL:https://horizon-ti.com
X-WR-CALDESC:Events for Хоризонти
REFRESH-INTERVAL;VALUE=DURATION:PT1H
X-Robots-Tag:noindex
X-PUBLISHED-TTL:PT1H
BEGIN:VTIMEZONE
TZID:Europe/Vienna
BEGIN:DAYLIGHT
TZOFFSETFROM:+0100
TZOFFSETTO:+0200
TZNAME:CEST
DTSTART:20240331T010000
END:DAYLIGHT
BEGIN:STANDARD
TZOFFSETFROM:+0200
TZOFFSETTO:+0100
TZNAME:CET
DTSTART:20241027T010000
END:STANDARD
BEGIN:DAYLIGHT
TZOFFSETFROM:+0100
TZOFFSETTO:+0200
TZNAME:CEST
DTSTART:20250330T010000
END:DAYLIGHT
BEGIN:STANDARD
TZOFFSETFROM:+0200
TZOFFSETTO:+0100
TZNAME:CET
DTSTART:20251026T010000
END:STANDARD
END:VTIMEZONE
BEGIN:VEVENT
DTSTART;TZID=Europe/Vienna:20250518T100000
DTEND;TZID=Europe/Vienna:20250518T120000
DTSTAMP:20260423T004223
CREATED:20250115T101521Z
LAST-MODIFIED:20250115T101522Z
UID:10000324-1747562400-1747569600@horizon-ti.com
SUMMARY:Немски Език
DESCRIPTION:Това е курс\, специално адаптиран за българи. Всяка неделя от 10:00 часа.  Не е необходимо предварително записване!
URL:https://horizon-ti.com/event/%d0%bd%d0%b5%d0%bc%d1%81%d0%ba%d0%b8-%d0%b5%d0%b7%d0%b8%d0%ba-4-2/2025-05-18/
LOCATION:Виена\, Haslingergasse 16\, 1170\, Австрия
CATEGORIES:Езици
ATTACH;FMTTYPE=image/jpeg:https://horizon-ti.com/wp-content/uploads/2023/11/claudio-schwarz-TScGhJM716g-unsplash-scaled-e1699637998667.jpg
END:VEVENT
BEGIN:VEVENT
DTSTART;TZID=Europe/Vienna:20250511T100000
DTEND;TZID=Europe/Vienna:20250511T120000
DTSTAMP:20260423T004223
CREATED:20250115T101521Z
LAST-MODIFIED:20250115T101522Z
UID:10000323-1746957600-1746964800@horizon-ti.com
SUMMARY:Немски Език
DESCRIPTION:Това е курс\, специално адаптиран за българи. Всяка неделя от 10:00 часа.  Не е необходимо предварително записване!
URL:https://horizon-ti.com/event/%d0%bd%d0%b5%d0%bc%d1%81%d0%ba%d0%b8-%d0%b5%d0%b7%d0%b8%d0%ba-4-2/2025-05-11/
LOCATION:Виена\, Haslingergasse 16\, 1170\, Австрия
CATEGORIES:Езици
ATTACH;FMTTYPE=image/jpeg:https://horizon-ti.com/wp-content/uploads/2023/11/claudio-schwarz-TScGhJM716g-unsplash-scaled-e1699637998667.jpg
END:VEVENT
BEGIN:VEVENT
DTSTART;TZID=Europe/Vienna:20250504T100000
DTEND;TZID=Europe/Vienna:20250504T120000
DTSTAMP:20260423T004223
CREATED:20250115T101521Z
LAST-MODIFIED:20250115T101522Z
UID:10000322-1746352800-1746360000@horizon-ti.com
SUMMARY:Немски Език
DESCRIPTION:Това е курс\, специално адаптиран за българи. Всяка неделя от 10:00 часа.  Не е необходимо предварително записване!
URL:https://horizon-ti.com/event/%d0%bd%d0%b5%d0%bc%d1%81%d0%ba%d0%b8-%d0%b5%d0%b7%d0%b8%d0%ba-4-2/2025-05-04/
LOCATION:Виена\, Haslingergasse 16\, 1170\, Австрия
CATEGORIES:Езици
ATTACH;FMTTYPE=image/jpeg:https://horizon-ti.com/wp-content/uploads/2023/11/claudio-schwarz-TScGhJM716g-unsplash-scaled-e1699637998667.jpg
END:VEVENT
BEGIN:VEVENT
DTSTART;TZID=Europe/Vienna:20250427T100000
DTEND;TZID=Europe/Vienna:20250427T120000
DTSTAMP:20260423T004223
CREATED:20250115T101521Z
LAST-MODIFIED:20250115T101522Z
UID:10000321-1745748000-1745755200@horizon-ti.com
SUMMARY:Немски Език
DESCRIPTION:Това е курс\, специално адаптиран за българи. Всяка неделя от 10:00 часа.  Не е необходимо предварително записване!
URL:https://horizon-ti.com/event/%d0%bd%d0%b5%d0%bc%d1%81%d0%ba%d0%b8-%d0%b5%d0%b7%d0%b8%d0%ba-4-2/2025-04-27/
LOCATION:Виена\, Haslingergasse 16\, 1170\, Австрия
CATEGORIES:Езици
ATTACH;FMTTYPE=image/jpeg:https://horizon-ti.com/wp-content/uploads/2023/11/claudio-schwarz-TScGhJM716g-unsplash-scaled-e1699637998667.jpg
END:VEVENT
BEGIN:VEVENT
DTSTART;TZID=Europe/Vienna:20250420T100000
DTEND;TZID=Europe/Vienna:20250420T120000
DTSTAMP:20260423T004223
CREATED:20250115T101521Z
LAST-MODIFIED:20250115T101522Z
UID:10000320-1745143200-1745150400@horizon-ti.com
SUMMARY:Немски Език
DESCRIPTION:Това е курс\, специално адаптиран за българи. Всяка неделя от 10:00 часа.  Не е необходимо предварително записване!
URL:https://horizon-ti.com/event/%d0%bd%d0%b5%d0%bc%d1%81%d0%ba%d0%b8-%d0%b5%d0%b7%d0%b8%d0%ba-4-2/2025-04-20/
LOCATION:Виена\, Haslingergasse 16\, 1170\, Австрия
CATEGORIES:Езици
ATTACH;FMTTYPE=image/jpeg:https://horizon-ti.com/wp-content/uploads/2023/11/claudio-schwarz-TScGhJM716g-unsplash-scaled-e1699637998667.jpg
END:VEVENT
BEGIN:VEVENT
DTSTART;TZID=Europe/Vienna:20250413T100000
DTEND;TZID=Europe/Vienna:20250413T120000
DTSTAMP:20260423T004223
CREATED:20250115T101521Z
LAST-MODIFIED:20250115T101522Z
UID:10000319-1744538400-1744545600@horizon-ti.com
SUMMARY:Немски Език
DESCRIPTION:Това е курс\, специално адаптиран за българи. Всяка неделя от 10:00 часа.  Не е необходимо предварително записване!
URL:https://horizon-ti.com/event/%d0%bd%d0%b5%d0%bc%d1%81%d0%ba%d0%b8-%d0%b5%d0%b7%d0%b8%d0%ba-4-2/2025-04-13/
LOCATION:Виена\, Haslingergasse 16\, 1170\, Австрия
CATEGORIES:Езици
ATTACH;FMTTYPE=image/jpeg:https://horizon-ti.com/wp-content/uploads/2023/11/claudio-schwarz-TScGhJM716g-unsplash-scaled-e1699637998667.jpg
END:VEVENT
BEGIN:VEVENT
DTSTART;TZID=Europe/Vienna:20250406T100000
DTEND;TZID=Europe/Vienna:20250406T120000
DTSTAMP:20260423T004223
CREATED:20250115T101521Z
LAST-MODIFIED:20250115T101522Z
UID:10000318-1743933600-1743940800@horizon-ti.com
SUMMARY:Немски Език
DESCRIPTION:Това е курс\, специално адаптиран за българи. Всяка неделя от 10:00 часа.  Не е необходимо предварително записване!
URL:https://horizon-ti.com/event/%d0%bd%d0%b5%d0%bc%d1%81%d0%ba%d0%b8-%d0%b5%d0%b7%d0%b8%d0%ba-4-2/2025-04-06/
LOCATION:Виена\, Haslingergasse 16\, 1170\, Австрия
CATEGORIES:Езици
ATTACH;FMTTYPE=image/jpeg:https://horizon-ti.com/wp-content/uploads/2023/11/claudio-schwarz-TScGhJM716g-unsplash-scaled-e1699637998667.jpg
END:VEVENT
BEGIN:VEVENT
DTSTART;TZID=Europe/Vienna:20250330T140000
DTEND;TZID=Europe/Vienna:20250330T160000
DTSTAMP:20260423T004223
CREATED:20250310T091731Z
LAST-MODIFIED:20250310T091731Z
UID:10000570-1743343200-1743350400@horizon-ti.com
SUMMARY:Курс по рисуване с художника Жоро Петров
DESCRIPTION:Такса: 5 Eвро \nДа събудим твореца в себе си! \nСкъпи приятели\, заповядайте в нашето арт-ателие – уютно пространство\, където цветовете оживяват\, а въображението няма граници! С помощта на художника Жоро Петров ще откриете своя уникален творчески почерк и ще се насладите на магията на изкуството. Независимо дали сте начинаещ или опитен творец\, тук ще намерите вдъхновение\, подкрепа и свободата да изразите себе си. \nТакса: 5 Eвро \nСвържете се с нас и запазете своето място!
URL:https://horizon-ti.com/event/%d0%ba%d1%83%d1%80%d1%81-%d0%bf%d0%be-%d1%80%d0%b8%d1%81%d1%83%d0%b2%d0%b0%d0%bd%d0%b5-%d1%81-%d1%85%d1%83%d0%b4%d0%be%d0%b6%d0%bd%d0%b8%d0%ba%d0%b0-%d0%b6%d0%be%d1%80%d0%be-%d0%bf%d0%b5%d1%82%d1%80-2/
LOCATION:Виена\, Haslingergasse 16\, 1170\, Австрия
CATEGORIES:Изкуство
ATTACH;FMTTYPE=image/jpeg:https://horizon-ti.com/wp-content/uploads/2024/10/art-featured.jpg
END:VEVENT
BEGIN:VEVENT
DTSTART;TZID=Europe/Vienna:20250330T100000
DTEND;TZID=Europe/Vienna:20250330T120000
DTSTAMP:20260423T004223
CREATED:20250115T101521Z
LAST-MODIFIED:20250115T101522Z
UID:10000317-1743328800-1743336000@horizon-ti.com
SUMMARY:Немски Език
DESCRIPTION:Това е курс\, специално адаптиран за българи. Всяка неделя от 10:00 часа.  Не е необходимо предварително записване!
URL:https://horizon-ti.com/event/%d0%bd%d0%b5%d0%bc%d1%81%d0%ba%d0%b8-%d0%b5%d0%b7%d0%b8%d0%ba-4-2/2025-03-30/
LOCATION:Виена\, Haslingergasse 16\, 1170\, Австрия
CATEGORIES:Езици
ATTACH;FMTTYPE=image/jpeg:https://horizon-ti.com/wp-content/uploads/2023/11/claudio-schwarz-TScGhJM716g-unsplash-scaled-e1699637998667.jpg
END:VEVENT
BEGIN:VEVENT
DTSTART;TZID=Europe/Vienna:20250323T100000
DTEND;TZID=Europe/Vienna:20250323T120000
DTSTAMP:20260423T004223
CREATED:20250115T101521Z
LAST-MODIFIED:20250115T101522Z
UID:10000316-1742724000-1742731200@horizon-ti.com
SUMMARY:Немски Език
DESCRIPTION:Това е курс\, специално адаптиран за българи. Всяка неделя от 10:00 часа.  Не е необходимо предварително записване!
URL:https://horizon-ti.com/event/%d0%bd%d0%b5%d0%bc%d1%81%d0%ba%d0%b8-%d0%b5%d0%b7%d0%b8%d0%ba-4-2/2025-03-23/
LOCATION:Виена\, Haslingergasse 16\, 1170\, Австрия
CATEGORIES:Езици
ATTACH;FMTTYPE=image/jpeg:https://horizon-ti.com/wp-content/uploads/2023/11/claudio-schwarz-TScGhJM716g-unsplash-scaled-e1699637998667.jpg
END:VEVENT
BEGIN:VEVENT
DTSTART;TZID=Europe/Vienna:20250316T100000
DTEND;TZID=Europe/Vienna:20250316T120000
DTSTAMP:20260423T004223
CREATED:20250115T101521Z
LAST-MODIFIED:20250115T101522Z
UID:10000315-1742119200-1742126400@horizon-ti.com
SUMMARY:Немски Език
DESCRIPTION:Това е курс\, специално адаптиран за българи. Всяка неделя от 10:00 часа.  Не е необходимо предварително записване!
URL:https://horizon-ti.com/event/%d0%bd%d0%b5%d0%bc%d1%81%d0%ba%d0%b8-%d0%b5%d0%b7%d0%b8%d0%ba-4-2/2025-03-16/
LOCATION:Виена\, Haslingergasse 16\, 1170\, Австрия
CATEGORIES:Езици
ATTACH;FMTTYPE=image/jpeg:https://horizon-ti.com/wp-content/uploads/2023/11/claudio-schwarz-TScGhJM716g-unsplash-scaled-e1699637998667.jpg
END:VEVENT
BEGIN:VEVENT
DTSTART;TZID=Europe/Vienna:20250309T100000
DTEND;TZID=Europe/Vienna:20250309T120000
DTSTAMP:20260423T004223
CREATED:20250115T101521Z
LAST-MODIFIED:20250115T101522Z
UID:10000314-1741514400-1741521600@horizon-ti.com
SUMMARY:Немски Език
DESCRIPTION:Това е курс\, специално адаптиран за българи. Всяка неделя от 10:00 часа.  Не е необходимо предварително записване!
URL:https://horizon-ti.com/event/%d0%bd%d0%b5%d0%bc%d1%81%d0%ba%d0%b8-%d0%b5%d0%b7%d0%b8%d0%ba-4-2/2025-03-09/
LOCATION:Виена\, Haslingergasse 16\, 1170\, Австрия
CATEGORIES:Езици
ATTACH;FMTTYPE=image/jpeg:https://horizon-ti.com/wp-content/uploads/2023/11/claudio-schwarz-TScGhJM716g-unsplash-scaled-e1699637998667.jpg
END:VEVENT
BEGIN:VEVENT
DTSTART;TZID=Europe/Vienna:20250302T100000
DTEND;TZID=Europe/Vienna:20250302T120000
DTSTAMP:20260423T004223
CREATED:20250115T101521Z
LAST-MODIFIED:20250115T101522Z
UID:10000313-1740909600-1740916800@horizon-ti.com
SUMMARY:Немски Език
DESCRIPTION:Това е курс\, специално адаптиран за българи. Всяка неделя от 10:00 часа.  Не е необходимо предварително записване!
URL:https://horizon-ti.com/event/%d0%bd%d0%b5%d0%bc%d1%81%d0%ba%d0%b8-%d0%b5%d0%b7%d0%b8%d0%ba-4-2/2025-03-02/
LOCATION:Виена\, Haslingergasse 16\, 1170\, Австрия
CATEGORIES:Езици
ATTACH;FMTTYPE=image/jpeg:https://horizon-ti.com/wp-content/uploads/2023/11/claudio-schwarz-TScGhJM716g-unsplash-scaled-e1699637998667.jpg
END:VEVENT
BEGIN:VEVENT
DTSTART;TZID=Europe/Vienna:20250223T140000
DTEND;TZID=Europe/Vienna:20250223T150000
DTSTAMP:20260423T004223
CREATED:20250213T132003Z
LAST-MODIFIED:20250213T132003Z
UID:10000569-1740319200-1740322800@horizon-ti.com
SUMMARY:Кулинарен Курс
DESCRIPTION:С огромно удоволствие ви каним на поредната ни кулинарна среща. Този път тя е посветена на основната храна за всеки българин – ХЛЯБЪТ. Ще се научим как сами да си приготвяме хляб с жива закваска. Приготвянето на хляб е цяло изкуство\, което изисква майсторство и търпение. Нашият кулинарен специалист ги притежава и двете. Тя в продъжение на години приготвя този изключително вкусен и здравословен хляб и с удоволствие ще сподели с нас своя богат опит. Всяка дама\, която желае да се научи как да приготвя истински хляб за своето семейство\, е добре дошла. Бонус: Ще имате възможност да получите готов квас! Само е необходимо предварително да заявите това на посочените контакти.
URL:https://horizon-ti.com/event/%d0%ba%d1%83%d0%bb%d0%b8%d0%bd%d0%b0%d1%80%d0%b5%d0%bd-%d0%ba%d1%83%d1%80%d1%81-2/
LOCATION:Виена\, Haslingergasse 16\, 1170\, Австрия
CATEGORIES:Кулинарни
ATTACH;FMTTYPE=image/jpeg:https://horizon-ti.com/wp-content/uploads/2025/02/wesual-click-rsWZ-P9FbQ4-unsplash.jpg
END:VEVENT
BEGIN:VEVENT
DTSTART;TZID=Europe/Vienna:20250223T100000
DTEND;TZID=Europe/Vienna:20250223T120000
DTSTAMP:20260423T004223
CREATED:20250115T101521Z
LAST-MODIFIED:20250115T101522Z
UID:10000312-1740304800-1740312000@horizon-ti.com
SUMMARY:Немски Език
DESCRIPTION:Това е курс\, специално адаптиран за българи. Всяка неделя от 10:00 часа.  Не е необходимо предварително записване!
URL:https://horizon-ti.com/event/%d0%bd%d0%b5%d0%bc%d1%81%d0%ba%d0%b8-%d0%b5%d0%b7%d0%b8%d0%ba-4-2/2025-02-23/
LOCATION:Виена\, Haslingergasse 16\, 1170\, Австрия
CATEGORIES:Езици
ATTACH;FMTTYPE=image/jpeg:https://horizon-ti.com/wp-content/uploads/2023/11/claudio-schwarz-TScGhJM716g-unsplash-scaled-e1699637998667.jpg
END:VEVENT
BEGIN:VEVENT
DTSTART;TZID=Europe/Vienna:20250216T100000
DTEND;TZID=Europe/Vienna:20250216T120000
DTSTAMP:20260423T004223
CREATED:20250115T101521Z
LAST-MODIFIED:20250115T101522Z
UID:10000311-1739700000-1739707200@horizon-ti.com
SUMMARY:Немски Език
DESCRIPTION:Това е курс\, специално адаптиран за българи. Всяка неделя от 10:00 часа.  Не е необходимо предварително записване!
URL:https://horizon-ti.com/event/%d0%bd%d0%b5%d0%bc%d1%81%d0%ba%d0%b8-%d0%b5%d0%b7%d0%b8%d0%ba-4-2/2025-02-16/
LOCATION:Виена\, Haslingergasse 16\, 1170\, Австрия
CATEGORIES:Езици
ATTACH;FMTTYPE=image/jpeg:https://horizon-ti.com/wp-content/uploads/2023/11/claudio-schwarz-TScGhJM716g-unsplash-scaled-e1699637998667.jpg
END:VEVENT
BEGIN:VEVENT
DTSTART;TZID=Europe/Vienna:20250209T100000
DTEND;TZID=Europe/Vienna:20250209T120000
DTSTAMP:20260423T004223
CREATED:20250115T101521Z
LAST-MODIFIED:20250115T101522Z
UID:10000310-1739095200-1739102400@horizon-ti.com
SUMMARY:Немски Език
DESCRIPTION:Това е курс\, специално адаптиран за българи. Всяка неделя от 10:00 часа.  Не е необходимо предварително записване!
URL:https://horizon-ti.com/event/%d0%bd%d0%b5%d0%bc%d1%81%d0%ba%d0%b8-%d0%b5%d0%b7%d0%b8%d0%ba-4-2/2025-02-09/
LOCATION:Виена\, Haslingergasse 16\, 1170\, Австрия
CATEGORIES:Езици
ATTACH;FMTTYPE=image/jpeg:https://horizon-ti.com/wp-content/uploads/2023/11/claudio-schwarz-TScGhJM716g-unsplash-scaled-e1699637998667.jpg
END:VEVENT
BEGIN:VEVENT
DTSTART;TZID=Europe/Vienna:20250202T100000
DTEND;TZID=Europe/Vienna:20250202T120000
DTSTAMP:20260423T004223
CREATED:20250115T101521Z
LAST-MODIFIED:20250115T101522Z
UID:10000309-1738490400-1738497600@horizon-ti.com
SUMMARY:Немски Език
DESCRIPTION:Това е курс\, специално адаптиран за българи. Всяка неделя от 10:00 часа.  Не е необходимо предварително записване!
URL:https://horizon-ti.com/event/%d0%bd%d0%b5%d0%bc%d1%81%d0%ba%d0%b8-%d0%b5%d0%b7%d0%b8%d0%ba-4-2/2025-02-02/
LOCATION:Виена\, Haslingergasse 16\, 1170\, Австрия
CATEGORIES:Езици
ATTACH;FMTTYPE=image/jpeg:https://horizon-ti.com/wp-content/uploads/2023/11/claudio-schwarz-TScGhJM716g-unsplash-scaled-e1699637998667.jpg
END:VEVENT
BEGIN:VEVENT
DTSTART;TZID=Europe/Vienna:20250126T100000
DTEND;TZID=Europe/Vienna:20250126T120000
DTSTAMP:20260423T004223
CREATED:20250115T101521Z
LAST-MODIFIED:20250115T101522Z
UID:10000308-1737885600-1737892800@horizon-ti.com
SUMMARY:Немски Език
DESCRIPTION:Това е курс\, специално адаптиран за българи. Всяка неделя от 10:00 часа.  Не е необходимо предварително записване!
URL:https://horizon-ti.com/event/%d0%bd%d0%b5%d0%bc%d1%81%d0%ba%d0%b8-%d0%b5%d0%b7%d0%b8%d0%ba-4-2/2025-01-26/
LOCATION:Виена\, Haslingergasse 16\, 1170\, Австрия
CATEGORIES:Езици
ATTACH;FMTTYPE=image/jpeg:https://horizon-ti.com/wp-content/uploads/2023/11/claudio-schwarz-TScGhJM716g-unsplash-scaled-e1699637998667.jpg
END:VEVENT
BEGIN:VEVENT
DTSTART;TZID=Europe/Vienna:20250119T133000
DTEND;TZID=Europe/Vienna:20250119T143000
DTSTAMP:20260423T004223
CREATED:20250115T102233Z
LAST-MODIFIED:20250115T102233Z
UID:10000568-1737293400-1737297000@horizon-ti.com
SUMMARY:Кулинарен Курс
DESCRIPTION:Тази неделя 19.01. от 13.30ч ще се учим да правим вкусни милинки с помощта на нашата леля Ленче\, която сме признали за „Майстор на милинките“
URL:https://horizon-ti.com/event/%d0%ba%d1%83%d0%bb%d0%b8%d0%bd%d0%b0%d1%80%d0%b5%d0%bd-%d0%ba%d1%83%d1%80%d1%81/
LOCATION:Виена\, Haslingergasse 16\, 1170\, Австрия
CATEGORIES:Кулинарни
ATTACH;FMTTYPE=image/jpeg:https://horizon-ti.com/wp-content/uploads/2025/01/kurs-po-gotvarstvo-kazanlak.jpg
END:VEVENT
BEGIN:VEVENT
DTSTART;TZID=Europe/Vienna:20250119T100000
DTEND;TZID=Europe/Vienna:20250119T120000
DTSTAMP:20260423T004223
CREATED:20250115T101521Z
LAST-MODIFIED:20250115T101522Z
UID:10000307-1737280800-1737288000@horizon-ti.com
SUMMARY:Немски Език
DESCRIPTION:Това е курс\, специално адаптиран за българи. Всяка неделя от 10:00 часа.  Не е необходимо предварително записване!
URL:https://horizon-ti.com/event/%d0%bd%d0%b5%d0%bc%d1%81%d0%ba%d0%b8-%d0%b5%d0%b7%d0%b8%d0%ba-4-2/2025-01-19/
LOCATION:Виена\, Haslingergasse 16\, 1170\, Австрия
CATEGORIES:Езици
ATTACH;FMTTYPE=image/jpeg:https://horizon-ti.com/wp-content/uploads/2023/11/claudio-schwarz-TScGhJM716g-unsplash-scaled-e1699637998667.jpg
END:VEVENT
BEGIN:VEVENT
DTSTART;TZID=Europe/Vienna:20250112T100000
DTEND;TZID=Europe/Vienna:20250112T120000
DTSTAMP:20260423T004223
CREATED:20241022T203419Z
LAST-MODIFIED:20250115T100251Z
UID:10000306-1736676000-1736683200@horizon-ti.com
SUMMARY:Немски Език
DESCRIPTION:Това е курс\, специално адаптиран за българи. Всяка неделя от 10:00 часа.  Не е необходимо предварително записване!
URL:https://horizon-ti.com/event/%d0%bd%d0%b5%d0%bc%d1%81%d0%ba%d0%b8-%d0%b5%d0%b7%d0%b8%d0%ba-4/2025-01-12/
LOCATION:Виена\, Haslingergasse 16\, 1170\, Австрия
CATEGORIES:Езици
ATTACH;FMTTYPE=image/jpeg:https://horizon-ti.com/wp-content/uploads/2023/11/claudio-schwarz-TScGhJM716g-unsplash-scaled-e1699637998667.jpg
END:VEVENT
BEGIN:VEVENT
DTSTART;TZID=Europe/Vienna:20250105T100000
DTEND;TZID=Europe/Vienna:20250105T120000
DTSTAMP:20260423T004223
CREATED:20241022T203419Z
LAST-MODIFIED:20250115T100251Z
UID:10000305-1736071200-1736078400@horizon-ti.com
SUMMARY:Немски Език
DESCRIPTION:Това е курс\, специално адаптиран за българи. Всяка неделя от 10:00 часа.  Не е необходимо предварително записване!
URL:https://horizon-ti.com/event/%d0%bd%d0%b5%d0%bc%d1%81%d0%ba%d0%b8-%d0%b5%d0%b7%d0%b8%d0%ba-4/2025-01-05/
LOCATION:Виена\, Haslingergasse 16\, 1170\, Австрия
CATEGORIES:Езици
ATTACH;FMTTYPE=image/jpeg:https://horizon-ti.com/wp-content/uploads/2023/11/claudio-schwarz-TScGhJM716g-unsplash-scaled-e1699637998667.jpg
END:VEVENT
BEGIN:VEVENT
DTSTART;TZID=Europe/Vienna:20241229T100000
DTEND;TZID=Europe/Vienna:20241229T120000
DTSTAMP:20260423T004223
CREATED:20241022T203419Z
LAST-MODIFIED:20250115T100251Z
UID:10000304-1735466400-1735473600@horizon-ti.com
SUMMARY:Немски Език
DESCRIPTION:Това е курс\, специално адаптиран за българи. Всяка неделя от 10:00 часа.  Не е необходимо предварително записване!
URL:https://horizon-ti.com/event/%d0%bd%d0%b5%d0%bc%d1%81%d0%ba%d0%b8-%d0%b5%d0%b7%d0%b8%d0%ba-4/2024-12-29/
LOCATION:Виена\, Haslingergasse 16\, 1170\, Австрия
CATEGORIES:Езици
ATTACH;FMTTYPE=image/jpeg:https://horizon-ti.com/wp-content/uploads/2023/11/claudio-schwarz-TScGhJM716g-unsplash-scaled-e1699637998667.jpg
END:VEVENT
BEGIN:VEVENT
DTSTART;TZID=Europe/Vienna:20241222T100000
DTEND;TZID=Europe/Vienna:20241222T120000
DTSTAMP:20260423T004223
CREATED:20241022T203419Z
LAST-MODIFIED:20250115T100251Z
UID:10000303-1734861600-1734868800@horizon-ti.com
SUMMARY:Немски Език
DESCRIPTION:Това е курс\, специално адаптиран за българи. Всяка неделя от 10:00 часа.  Не е необходимо предварително записване!
URL:https://horizon-ti.com/event/%d0%bd%d0%b5%d0%bc%d1%81%d0%ba%d0%b8-%d0%b5%d0%b7%d0%b8%d0%ba-4/2024-12-22/
LOCATION:Виена\, Haslingergasse 16\, 1170\, Австрия
CATEGORIES:Езици
ATTACH;FMTTYPE=image/jpeg:https://horizon-ti.com/wp-content/uploads/2023/11/claudio-schwarz-TScGhJM716g-unsplash-scaled-e1699637998667.jpg
END:VEVENT
BEGIN:VEVENT
DTSTART;TZID=Europe/Vienna:20241215T100000
DTEND;TZID=Europe/Vienna:20241215T120000
DTSTAMP:20260423T004223
CREATED:20241022T203419Z
LAST-MODIFIED:20250115T100251Z
UID:10000302-1734256800-1734264000@horizon-ti.com
SUMMARY:Немски Език
DESCRIPTION:Това е курс\, специално адаптиран за българи. Всяка неделя от 10:00 часа.  Не е необходимо предварително записване!
URL:https://horizon-ti.com/event/%d0%bd%d0%b5%d0%bc%d1%81%d0%ba%d0%b8-%d0%b5%d0%b7%d0%b8%d0%ba-4/2024-12-15/
LOCATION:Виена\, Haslingergasse 16\, 1170\, Австрия
CATEGORIES:Езици
ATTACH;FMTTYPE=image/jpeg:https://horizon-ti.com/wp-content/uploads/2023/11/claudio-schwarz-TScGhJM716g-unsplash-scaled-e1699637998667.jpg
END:VEVENT
BEGIN:VEVENT
DTSTART;TZID=Europe/Vienna:20241208T100000
DTEND;TZID=Europe/Vienna:20241208T120000
DTSTAMP:20260423T004223
CREATED:20241022T203419Z
LAST-MODIFIED:20250115T100251Z
UID:10000301-1733652000-1733659200@horizon-ti.com
SUMMARY:Немски Език
DESCRIPTION:Това е курс\, специално адаптиран за българи. Всяка неделя от 10:00 часа.  Не е необходимо предварително записване!
URL:https://horizon-ti.com/event/%d0%bd%d0%b5%d0%bc%d1%81%d0%ba%d0%b8-%d0%b5%d0%b7%d0%b8%d0%ba-4/2024-12-08/
LOCATION:Виена\, Haslingergasse 16\, 1170\, Австрия
CATEGORIES:Езици
ATTACH;FMTTYPE=image/jpeg:https://horizon-ti.com/wp-content/uploads/2023/11/claudio-schwarz-TScGhJM716g-unsplash-scaled-e1699637998667.jpg
END:VEVENT
BEGIN:VEVENT
DTSTART;TZID=Europe/Vienna:20241201T100000
DTEND;TZID=Europe/Vienna:20241201T120000
DTSTAMP:20260423T004223
CREATED:20241022T203419Z
LAST-MODIFIED:20250115T100251Z
UID:10000300-1733047200-1733054400@horizon-ti.com
SUMMARY:Немски Език
DESCRIPTION:Това е курс\, специално адаптиран за българи. Всяка неделя от 10:00 часа.  Не е необходимо предварително записване!
URL:https://horizon-ti.com/event/%d0%bd%d0%b5%d0%bc%d1%81%d0%ba%d0%b8-%d0%b5%d0%b7%d0%b8%d0%ba-4/2024-12-01/
LOCATION:Виена\, Haslingergasse 16\, 1170\, Австрия
CATEGORIES:Езици
ATTACH;FMTTYPE=image/jpeg:https://horizon-ti.com/wp-content/uploads/2023/11/claudio-schwarz-TScGhJM716g-unsplash-scaled-e1699637998667.jpg
END:VEVENT
BEGIN:VEVENT
DTSTART;TZID=Europe/Vienna:20241124T100000
DTEND;TZID=Europe/Vienna:20241124T120000
DTSTAMP:20260423T004223
CREATED:20241022T203419Z
LAST-MODIFIED:20250115T100251Z
UID:10000298-1732442400-1732449600@horizon-ti.com
SUMMARY:Немски Език
DESCRIPTION:Това е курс\, специално адаптиран за българи. Всяка неделя от 10:00 часа.  Не е необходимо предварително записване!
URL:https://horizon-ti.com/event/%d0%bd%d0%b5%d0%bc%d1%81%d0%ba%d0%b8-%d0%b5%d0%b7%d0%b8%d0%ba-4/2024-11-24/
LOCATION:Виена\, Haslingergasse 16\, 1170\, Австрия
CATEGORIES:Езици
ATTACH;FMTTYPE=image/jpeg:https://horizon-ti.com/wp-content/uploads/2023/11/claudio-schwarz-TScGhJM716g-unsplash-scaled-e1699637998667.jpg
END:VEVENT
BEGIN:VEVENT
DTSTART;TZID=Europe/Vienna:20241117T140000
DTEND;TZID=Europe/Vienna:20241117T160000
DTSTAMP:20260423T004223
CREATED:20241107T110418Z
LAST-MODIFIED:20241107T144957Z
UID:10000299-1731852000-1731859200@horizon-ti.com
SUMMARY:Шах\, Табла и Белот клуб
DESCRIPTION:Ако обичате да играете шах\, табла или белот\, ще се радваме да се присъедините към нас. Тук ще се запознаете и с други българи\, които играят с удоволствие тези игри. Нужните материали са осигурени от организаторите. За това събитие НЕ е нужно записване. Всеки\, който желае\, може да се включи.
URL:https://horizon-ti.com/event/%d1%88%d0%b0%d1%85-%d1%82%d0%b0%d0%b1%d0%bb%d0%b0-%d0%b8-%d0%b1%d0%b5%d0%bb%d0%be%d1%82-%d0%ba%d0%bb%d1%83%d0%b1/
LOCATION:Виена\, Haslingergasse 16\, 1170\, Австрия
CATEGORIES:Игри
ATTACH;FMTTYPE=image/jpeg:https://horizon-ti.com/wp-content/uploads/2023/10/black-chess-pieces-versus-white-team-1-scaled.jpg
END:VEVENT
END:VCALENDAR