BEGIN:VCALENDAR
VERSION:2.0
PRODID:-//Хоризонти - ECPv6.2.8.2//NONSGML v1.0//EN
CALSCALE:GREGORIAN
METHOD:PUBLISH
X-WR-CALNAME:Хоризонти
X-ORIGINAL-URL:https://horizon-ti.com
X-WR-CALDESC:Events for Хоризонти
REFRESH-INTERVAL;VALUE=DURATION:PT1H
X-Robots-Tag:noindex
X-PUBLISHED-TTL:PT1H
BEGIN:VTIMEZONE
TZID:Europe/Vienna
BEGIN:DAYLIGHT
TZOFFSETFROM:+0100
TZOFFSETTO:+0200
TZNAME:CEST
DTSTART:20250330T010000
END:DAYLIGHT
BEGIN:STANDARD
TZOFFSETFROM:+0200
TZOFFSETTO:+0100
TZNAME:CET
DTSTART:20251026T010000
END:STANDARD
END:VTIMEZONE
BEGIN:VEVENT
DTSTART;TZID=Europe/Vienna:20250223T140000
DTEND;TZID=Europe/Vienna:20250223T150000
DTSTAMP:20260421T115812
CREATED:20250213T132003Z
LAST-MODIFIED:20250213T132003Z
UID:10000569-1740319200-1740322800@horizon-ti.com
SUMMARY:Кулинарен Курс
DESCRIPTION:С огромно удоволствие ви каним на поредната ни кулинарна среща. Този път тя е посветена на основната храна за всеки българин – ХЛЯБЪТ. Ще се научим как сами да си приготвяме хляб с жива закваска. Приготвянето на хляб е цяло изкуство\, което изисква майсторство и търпение. Нашият кулинарен специалист ги притежава и двете. Тя в продъжение на години приготвя този изключително вкусен и здравословен хляб и с удоволствие ще сподели с нас своя богат опит. Всяка дама\, която желае да се научи как да приготвя истински хляб за своето семейство\, е добре дошла. Бонус: Ще имате възможност да получите готов квас! Само е необходимо предварително да заявите това на посочените контакти.
URL:https://horizon-ti.com/event/%d0%ba%d1%83%d0%bb%d0%b8%d0%bd%d0%b0%d1%80%d0%b5%d0%bd-%d0%ba%d1%83%d1%80%d1%81-2/
LOCATION:Виена\, Haslingergasse 16\, 1170\, Австрия
CATEGORIES:Кулинарни
ATTACH;FMTTYPE=image/jpeg:https://horizon-ti.com/wp-content/uploads/2025/02/wesual-click-rsWZ-P9FbQ4-unsplash.jpg
END:VEVENT
BEGIN:VEVENT
DTSTART;TZID=Europe/Vienna:20250119T133000
DTEND;TZID=Europe/Vienna:20250119T143000
DTSTAMP:20260421T115812
CREATED:20250115T102233Z
LAST-MODIFIED:20250115T102233Z
UID:10000568-1737293400-1737297000@horizon-ti.com
SUMMARY:Кулинарен Курс
DESCRIPTION:Тази неделя 19.01. от 13.30ч ще се учим да правим вкусни милинки с помощта на нашата леля Ленче\, която сме признали за „Майстор на милинките“
URL:https://horizon-ti.com/event/%d0%ba%d1%83%d0%bb%d0%b8%d0%bd%d0%b0%d1%80%d0%b5%d0%bd-%d0%ba%d1%83%d1%80%d1%81/
LOCATION:Виена\, Haslingergasse 16\, 1170\, Австрия
CATEGORIES:Кулинарни
ATTACH;FMTTYPE=image/jpeg:https://horizon-ti.com/wp-content/uploads/2025/01/kurs-po-gotvarstvo-kazanlak.jpg
END:VEVENT
END:VCALENDAR